Workbook

Sheet 角色表
B2: 基本信息 | X2: 异常▼ | AD2: 素质保障 | AW2: 现实触发器 (为你带来麻烦的东西) | BR2: 自我评估 | CU2: 扮演角色速查
B3: 角色姓名 | E3: 李斯·孙卿 | N3: 照片粘贴处 | X3: 编目 | AD3: 请根据自我评估结果加点 | AZ3: 3 | BR3: 问题1 | BT3: =INDEX(date!$C$67:$K$67,MATCH($X$11,date!$C$56:$K$56,0)) -> 与我共事四年的同事至今都不知道我名字。我会…… | CU3: 姓名 | CX3: =INDEX(角色库!$C$2:$Z$2,MATCH($DI$3,角色库!$C$3:$Z$3,0)) -> 萧峰 | DF3: 备注 | DI3: 示例角色
B4: 员工代号 | E4: 法理1 | AD4: 缜密 | AF4: 3 | AG4: / | AH4: 3 | AJ4: 共情 | AL4: 0 | AM4: / | AN4: 0 | AP4: 气质 | AR4: 0 | AS4: / | AT4: 0 | AY4: =INDEX(date!$C$46:$K$46,MATCH($X$7,date!$C$41:$K$41,0)) -> 被排挤 | BK4: ✘ | BL4: ✘ | BM4: ✘ | BN4: ✘ | BR4: A. | BT4: =INDEX(date!$C$68:$K$68,MATCH($X$11,date!$C$56:$K$56,0)) -> 清晰而响亮地介绍自己，直到他们真正记住 | CQ4: =INDEX(date!$C$69:$K$69,MATCH($X$11,date!$C$56:$K$56,0)) -> +3 气质 | CS4: ✘ | CU4: 性别 | CX4: =INDEX(角色库!$C$4:$Z$4,MATCH($DI$3,角色库!$C$3:$Z$3,0)) -> 男 | DF4: 年龄 | DI4: =INDEX(角色库!$C$5:$Z$5,MATCH($DI$3,角色库!$C$3:$Z$3,0)) -> 35
B5: 职能等级 | E5: 菜鸟 | AW5: =INDEX(date!$C$44:$K$44,MATCH($X$7,date!$C$41:$K$41,0)) -> 无尽责任 | AZ5: 4 | BR5: B. | BT5: =INDEX(date!$C$70:$K$70,MATCH($X$11,date!$C$56:$K$56,0)) -> 干脆也不记对方的名字 | CQ5: =INDEX(date!$C$71:$K$71,MATCH($X$11,date!$C$56:$K$56,0)) -> +3 欺瞒 | CS5: ✔ | CU5: =INDEX(角色库!$C$6:$Z$6,MATCH($DI$3,角色库!$C$3:$Z$3,0)) -> 前往表格”角色库“查看使用说明以使用本功能。
B6: 性别 | E6: 他 | X6: 现实▼ | AW6: =INDEX(date!$C$45:$K$45,MATCH($X$7,date!$C$41:$K$41,0)) -> GM 可以在任何时刻让你的一位组织成员向你提出需求。如果你对其视而不见，你在组织内部的形象就会大受影响，且任何了解你组织的人也会对你评价下降：你的继任者（见“人际关系矩阵”）的扮演者选择的一段关系失去 1 点连接。 如果你违反了组织的规则或让其他成员感到尴尬，请在四格“被排挤”轨迹中勾选下一个空格。当所有格子都已被勾选，或者你主动让位，你的继任者将接管组织，而你必须选择新的现实身份。 | BR6: 问题2 | BT6: =INDEX(date!$C$72:$K$72,MATCH($X$11,date!$C$56:$K$56,0)) -> 有人并非自称的那个人。我验证其身份的方式是……
B7: 年龄 | E7: 45 | X7: 顶梁柱 | AD7: 欺瞒 | AF7: 3 | AG7: / | AH7: 3 | AJ7: 主动 | AL7: 0 | AM7: / | AN7: 0 | AP7: 专业 | AR7: 0 | AS7: / | AT7: 0 | BR7: A. | BT7: =INDEX(date!$C$73:$K$73,MATCH($X$11,date!$C$56:$K$56,0)) -> 审问他们 | CQ7: =INDEX(date!$C$74:$K$74,MATCH($X$11,date!$C$56:$K$56,0)) -> +3 坚持 | CS7: ✘
B8: 员工信誉 | E8: =IF(E13>=10,VLOOKUP(10,date!B84:C94,2,FALSE),VLOOKUP(E13,date!B84:C94,2,FALSE)) -> 良好信誉 | BR8: B. | BT8: =INDEX(date!$C$75:$K$75,MATCH($X$11,date!$C$56:$K$56,0)) -> 审问他们 | CQ8: =INDEX(date!$C$76:$K$76,MATCH($X$11,date!$C$56:$K$56,0)) -> +3 活力 | CS8: ✔
E9: =IF(E13>=10,VLOOKUP(10,date!B84:D94,3,FALSE),VLOOKUP(E13,date!B84:D94,3,FALSE)) -> 你是值得公司信赖的特工，一切运作顺利。 | BR9: 问题3 | BT9: =INDEX(date!$C$77:$K$77,MATCH($X$11,date!$C$56:$K$56,0)) -> 有人在火警疏散时闯入我的大楼行窃。我会……
X10: 职能▼ | AD10: 活力 | AF10: 3 | AG10: / | AH10: 3 | AJ10: 坚持 | AL10: 0 | AM10: / | AN10: 0 | AP10: 低调 | AR10: 0 | AS10: / | AT10: 0 | BR10: A. | BT10: =INDEX(date!$C$78:$K$78,MATCH($X$11,date!$C$56:$K$56,0)) -> 保证火势不被打扰 | CQ10: =INDEX(date!$C$79:$K$79,MATCH($X$11,date!$C$56:$K$56,0)) -> +3 专业 | CS10: ✘
B11: 嘉奖 | E11: 0 | J11: MVP次数 | N11: 0 | X11: 前台接待 | BR11: B. | BT11: =INDEX(date!$C$80:$K$80,MATCH($X$11,date!$C$56:$K$56,0)) -> 视其为“第一响应者”并放行 | CQ11: =INDEX(date!$C$81:$K$81,MATCH($X$11,date!$C$56:$K$56,0)) -> +3 缜密 | CS11: ✔
B13: 处分 | E13: 0 | J13: 观察期次数 | N13: 0 | BR13: 备忘录的备忘录 | CU13: 备忘录
S14: 最高准则 (为你带来处分的行为)
B16: 嘉奖债务 | E16: 0 | J16: 你佩戴着 | N16: 无 | S16: =INDEX(date!$C$60:$K$60,MATCH($X$11,date!$C$56:$K$56,0)) -> 时刻保持警惕。
S17: =INDEX(date!$C$61:$K$61,MATCH($X$11,date!$C$56:$K$56,0)) -> 在下列两条中任选其一执行： a. 每当你坐下时，受到 1 次违规处分； b. 每当你留下一个问题未回答时，受到 1 次违规处分。
B19: 燃尽 | J19: 自定义
S20: 授权行为 (为你带来嘉奖的行为) | AW20: 燃尽释放 （让你无视燃尽的行为）
B22: 自定义 | J22: 自定义 | S22: =INDEX(date!$C$62:$K$62,MATCH($X$11,date!$C$56:$K$56,0)) -> 1. 审问某人。 | AU22: ✘ | AW22: =INDEX(date!$C$47:$K$47,MATCH($X$7,date!$C$41:$K$41,0)) -> 这是我的名片
S23: =INDEX(date!$C$63:$K$63,MATCH($X$11,date!$C$56:$K$56,0)) -> 2. 征用他人财物。 | AU23: ✘ | AW23: =INDEX(date!$C$48:$K$48,MATCH($X$7,date!$C$41:$K$41,0)) -> 当你在做任何能扩大组织影响力的事情时，无视所有燃尽。
S24: =INDEX(date!$C$64:$K$64,MATCH($X$11,date!$C$56:$K$56,0)) -> 3. 彻底关闭一扇门。 | AU24: ✘
A25: i
C26: 异常能力 | AQ26: 补给 | CE26: 人际关系矩阵
C28: ✘ | E28: =IFERROR(INDEX(date!$C$5:$K$5,MATCH($X$3,date!$C$3:$K$3,0)),"") -> “那边是什么？” | S28: =IFERROR(INDEX(date!$C$7:$K$7,MATCH($X$3,date!$C$3:$K$3,0)),"") -> 缜密 | V28: ✘ | X28: =IFERROR(INDEX(date!$C$16:$K$16,MATCH($X$3,date!$C$3:$K$3,0)),"") -> “你或许还会喜欢…” | AL28: =IFERROR(INDEX(date!$C$18:$K$18,MATCH($X$3,date!$C$3:$K$3,0)),"") -> 活力 | AQ28: 常规公文包 | BG28: N/a | BJ28: 涟漪枪 | BZ28: N/a | CE28: 照片粘贴处 | CI28: 姓名 | CL28: 里约大 | CU28: 照片粘贴处 | CY28: 姓名 | DB28: 奥雷利亚诺
BG29: 拥有 | BZ29: 拥有
C30: 触发 | D30: =IFERROR(INDEX(date!$C$6:$K$6,MATCH($X$3,date!$C$3:$K$3,0)),"") -> 指向附近某处并说“那边是什么？”。 | V30: 触发 | W30: =IFERROR(INDEX(date!$C$17:$K$17,MATCH($X$3,date!$C$3:$K$3,0)),"") -> 拿起任何一个你能携带的小型物品。 | AQ30: 外观毫无特色的普通公文包，具备收容并安全存储任何尺寸异常的能力。 使用时，目标异常必须处于极度衰弱、情绪稳定或自愿接受收容的状态。 小贴士：通常，成功收容异常的关键在于识别其焦点——即导致其诞生的核心思维或情感。 | BJ30: 此武器原本是1970年代某美国科幻电视剧的道具，目前已被证实为唯一能够直接干扰异常共振的装置。 该武器仅能储存一发能量，只要「涟漪枪」能够直接瞄准目标异常且无障碍物阻挡，便可释放能量对其进行永久性中和。 注意事项： 「涟漪枪」内置安全机制，无法对共鸣体进行射击。 确保自身绝不处于「涟漪枪」与目标之间，以免发生不可预测后果。 如特工将「涟漪枪」用于非本次任务目标的异常，将被记3次违规处分。 | CI30: 扮演者 | CL30: 谁是你的继任者 | CY30: 扮演者 | DB30: 谁威胁着你组织的存 续？
CI32: 连接点 | CL32: 6 | CY32: 连接点 | DB32: 3
C33: 成功时 | D33: =IFERROR(INDEX(date!$C$8:$K$8,MATCH($X$3,date!$C$3:$K$3,0)),"") -> 你在所指位置创造出一个物体。它可以是你想象中任何普通、无害且恰好能适应该空间的物品，但只能包含你所熟悉的细节或信息。 | V33: 成功时 | W33: =IFERROR(INDEX(date!$C$19:$K$19,MATCH($X$3,date!$C$3:$K$3,0)),"") -> 该物品会变成一个类似但又有所不同的版本。（例如，一件绿色外套变为蓝色外套，一个毛绒熊变为毛绒老虎， #203房间的钥匙变为 #204的……）
CE34: 萨莉亚第二餐厅的副经理，一个有着金色头发的帅气小男孩，我很喜欢他，事实上比起我的继任者，我更想让他当我的情人 | CU34: 萨莉亚第二餐厅的另一位经理，黑色头发平时一副苦大仇深的样子，他甚至不会做饭怎么来当经理？如果把餐厅交到他手上不到一周就会倒闭的
C39: 能力强化 | D39: =IFERROR(INDEX(date!$C$9:$K$9,MATCH($X$3,date!$C$3:$K$3,0)),"") -> 每额外获得一个“3”，你可以在附近再创造一个物体。 | V39: 能力强化 | W39: =IFERROR(INDEX(date!$C$20:$K$20,MATCH($X$3,date!$C$3:$K$3,0)),"") -> 每当累计到第三个“3”，你可以为该物体添加一个额外的变体，允许你在这些变体之间自由切换，例如让一根拐杖可以在拐杖和剑之间转换。此效果为永久性，但仅在你持有该物体时可进行切换。
AQ40: =INDEX(date!$C$65:$K$65,MATCH($X$11,date!$C$56:$K$56,0)) -> 莫比乌斯回路电视 | BG40: N/a
BG41: 拥有
AQ42: =INDEX(date!$C$66:$K$66,MATCH($X$11,date!$C$56:$K$56,0)) -> 在密库深处有一间由无数电视屏幕组成的“无尽房间”。 每次任务限一次：使用任意联网装置呼叫其中一台电视的画面，查看至多 30 分钟。 你可以令画面显示来自你今天曾到访过的某个地点的特定时刻影像。 | CE42: 6 | CG42: =INDEX(date!$C$97:$C$109,MATCH($CE$42,date!$B$97:$B$109,0)) -> 激励型 | CR42: ✘ | CU42: 1 | CW42: =INDEX(date!$C$97:$C$109,MATCH($CU$42,date!$B$97:$B$109,0)) -> 聪慧 | DH42: ✘
CE44: =INDEX(date!$D$97:$D$109,MATCH($CE$42,date!$B$97:$B$109,0)) -> 通过与你的这位好友共同进行某项友谊仪式（比如喝饮料、打街头篮球、互相涂指甲油等），你可以在任务中任意时刻为自己恢复 3 点已用的素质保证点。 | CU44: =INDEX(date!$D$97:$D$109,MATCH($CU$42,date!$B$97:$B$109,0)) -> 此人总是走在前沿。在你下一次任务中，你可以随时召唤他提前预警潜在的危险或悲剧。
C45: 失败时 | D45: =IFERROR(INDEX(date!$C$10:$K$10,MATCH($X$3,date!$C$3:$K$3,0)),"") -> GM 会描述一个现存但显得格格不入或极为不便的物体。 | V45: 失败时 | W45: =IFERROR(INDEX(date!$C$21:$K$21,MATCH($X$3,date!$C$3:$K$3,0)),"") -> 该物体将被完全不同的物品取代，并且此后无法通过该能力进行更改。
C50: ✘ | E50: =IFERROR(INDEX(date!$C$27:$K$27,MATCH($X$3,date!$C$3:$K$3,0)),"") -> 你最佳的自我 | S50: =IFERROR(INDEX(date!$C$29:$K$29,MATCH($X$3,date!$C$3:$K$3,0)),"") -> 欺瞒 | V50: ✘ | CE50: 照片粘贴处 | CI50: 姓名 | CL50: 阿尔卡蒂奥 | CU50: 照片粘贴处 | CY50: 姓名
C52: 触发 | D52: =IFERROR(INDEX(date!$C$28:$K$28,MATCH($X$3,date!$C$3:$K$3,0)),"") -> 打开一个你能够完全容纳其中的容器。 | V52: 触发 | CI52: 扮演者 | CL52: 谁甚至从来都记不住你组 织的名字？ | CY52: 扮演者
CI54: 连接点 | CL54: 3 | CY54: 连接点 | DB54: 0
C55: 成功时 | D55: =IFERROR(INDEX(date!$C$30:$K$30,MATCH($X$3,date!$C$3:$K$3,0)),"") -> 一个你的复制品会出现在容器内。这个复制品拥有一项对你当前情境特别有用的技能（如削木、口哨、搅拌等）。在一小时内，他们将从你的世界中消失。 | V55: 成功时
CE56: 一个蹩脚的厨师而已，要不是他的披萨做的好吃我早把他炒了 | CU56: 人物描述
C61: 能力强化 | D61: =IFERROR(INDEX(date!$C$31:$K$31,MATCH($X$3,date!$C$3:$K$3,0)),"") -> 如果掷出六个或更多“3”，你可以创造出另一个复制品。 | V61: 能力强化
CE64: 4 | CG64: =INDEX(date!$C$97:$C$109,MATCH($CE$64,date!$B$97:$B$109,0)) -> 诅咒 | CR64: ✘ | CU64: 无 | CW64: =INDEX(date!$C$97:$C$109,MATCH($CU$64,date!$B$97:$B$109,0)) -> 无 | DH64: ✘
...

Sheet 平衡工作与生活
C2: 平衡工作与生活 | AJ2: 异常能力问题
AJ3: =IFERROR(INDEX(date!$C$5:$K$5,MATCH(角色表!$X$3,date!$C$3:$K$3,0)),"") -> “那边是什么？” | AN3: =IFERROR(INDEX(date!$C$11:$K$11,MATCH(角色表!$X$3,date!$C$3:$K$3,0)),"") -> 问：我的朋友永远不会伤害我，因为…… | BN3: =IF(BP3="✔","已练习","未练习") -> 未练习 | BP3: ✘
C4: 每次任务后，消耗1个可用时间标记1个格子，然后如果可以，查看对应秘密文档。 每当你通过消耗可用时间标记1个格子，将另外2个轨迹最末尾的1个格子划掉。 | AD4: 可用时间 | AN4: =IFERROR(INDEX(date!$C$12:$K$12,MATCH(角色表!$X$3,date!$C$3:$K$3,0)),"") -> a.他们不知道怎么才能做到。 | BL4: ▷ | BM4: ▷ | BN4: ▷ | BO4: =IFERROR(INDEX(date!$C$13:$K$13,MATCH(角色表!$X$3,date!$C$3:$K$3,0)),"") -> Y1
AD5: 0 | AN5: =IFERROR(INDEX(date!$C$14:$K$14,MATCH(角色表!$X$3,date!$C$3:$K$3,0)),"") -> b.是我雇的他们。 | BL5: ▷ | BM5: ▷ | BN5: ▷ | BO5: =IFERROR(INDEX(date!$C$15:$K$15,MATCH(角色表!$X$3,date!$C$3:$K$3,0)),"") -> I5
AJ6: =IFERROR(INDEX(date!$C$16:$K$16,MATCH(角色表!$X$3,date!$C$3:$K$3,0)),"") -> “你或许还会喜欢…” | AN6: =IFERROR(INDEX(date!$C$22:$K$22,MATCH(角色表!$X$3,date!$C$3:$K$3,0)),"") -> 问：对我来说，顾客永远是…… | BN6: =IF(BP6="✔","已练习","未练习") -> 未练习 | BP6: ✘
C7: 异常共鸣轨迹 | AN7: =IFERROR(INDEX(date!$C$23:$K$23,MATCH(角色表!$X$3,date!$C$3:$K$3,0)),"") -> a.对的。 | BL7: ▷ | BM7: ▷ | BN7: ▷ | BO7: =IFERROR(INDEX(date!$C$24:$K$24,MATCH(角色表!$X$3,date!$C$3:$K$3,0)),"") -> L2
C8: ▷ | D8: ▷ | E8: ▷ | F8: ▷ | G8: ▷ | H8: ▷ | I8: ▷ | J8: ▷ | K8: ▷ | L8: ▷ | M8: ▷ | N8: ▷ | O8: ▷ | P8: ▷ | Q8: ▷ | R8: ▷ | S8: ▷ | T8: ▷ | U8: ▷ | V8: ▷ | W8: ▷ | X8: ▷ | Y8: ▷ | Z8: ▷ | AA8: ▷ | AB8: ▷ | AC8: ▷ | AD8: ▷ | AE8: ▷ | AF8: ▷ | AN8: =IFERROR(INDEX(date!$C$25:$K$25,MATCH(角色表!$X$3,date!$C$3:$K$3,0)),"") -> b.错的。 | BL8: ▷ | BM8: ▷ | BN8: ▷ | BO8: =IFERROR(INDEX(date!$C$26:$K$26,MATCH(角色表!$X$3,date!$C$3:$K$3,0)),"") -> J1
C9: H4 | D9: H3 | G9: U2 | I9: X2 | M9: N1 | O9: Q2 | S9: L10 | U9: G8 | Y9: A7 | AJ9: =IFERROR(INDEX(date!$C$27:$K$27,MATCH(角色表!$X$3,date!$C$3:$K$3,0)),"") -> 你最佳的自我 | AN9: =IFERROR(INDEX(date!$C$33:$K$33,MATCH(角色表!$X$3,date!$C$3:$K$3,0)),"") -> 问：敌人的敌人是…… | BN9: =IF(BP9="✔","已练习","未练习") -> 未练习 | BP9: ✘
C10: 每当你获得观察期，标记1个异常共鸣轨迹中的格子，且不划掉其它格子。 每当你标记1个异常共鸣轨迹中的格子，选择一项： a.练习：为一项异常能力标记[已练习]； b.被了解：从被标记[已练习]的异常能力中选择一项，向你的队友提问技能问题，勾选票数最多的答案，点满对应轨道后阅读对应的秘密文档。 | AN10: =IFERROR(INDEX(date!$C$34:$K$34,MATCH(角色表!$X$3,date!$C$3:$K$3,0)),"") -> a.我的朋友 | BL10: ▷ | BM10: ▷ | BN10: ▷ | BO10: =IFERROR(INDEX(date!$C$35:$K$35,MATCH(角色表!$X$3,date!$C$3:$K$3,0)),"") -> Y5
AN11: =IFERROR(INDEX(date!$C$36:$K$36,MATCH(角色表!$X$3,date!$C$3:$K$3,0)),"") -> b.我自己 | BL11: ▷ | BM11: ▷ | BN11: ▷ | BO11: =IFERROR(INDEX(date!$C$37:$K$37,MATCH(角色表!$X$3,date!$C$3:$K$3,0)),"") -> P5
BN12: =IF(BP12="✔","已练习","未练习") -> 未练习 | BP12: ✘
BL13: ▷ | BM13: ▷ | BN13: ▷
BL14: ▷ | BM14: ▷ | BN14: ▷
C15: 现实身份轨迹 | BN15: =IF(BP15="✔","已练习","未练习") -> 未练习 | BP15: ✘
C16: ▷ | D16: ▷ | E16: ▷ | F16: ▷ | G16: ▷ | H16: ▷ | I16: ▷ | J16: ▷ | K16: ▷ | L16: ▷ | M16: ▷ | N16: ▷ | O16: ▷ | P16: ▷ | Q16: ▷ | R16: ▷ | S16: ▷ | T16: ▷ | U16: ▷ | V16: ▷ | W16: ▷ | X16: ▷ | Y16: ▷ | Z16: ▷ | AA16: ▷ | AB16: ▷ | AC16: ▷ | AD16: ▷ | AE16: ▷ | AF16: ▷ | BL16: ▷ | BM16: ▷ | BN16: ▷
C17: C4 | F17: L11 | J17: E2 | L17: O4 | P17: T6 | R17: V2 | V17: X3 | X17: H5 | AB17: E3 | BL17: ▷ | BM17: ▷ | BN17: ▷
C18: 当你既没有获得MVP，也没有获得观察期时，为一条人际关系增加1点关系。 每当你标记1个现实身份轨迹中的格子，为一条人际关系增加1点连接，并在下次任务时可以使用1次人际关系奖励，并且，你的每条连接达到9点的人际关系都可以在下次任务时使用1次人际关系奖励。 | BN18: =IF(BP18="✔","已练习","未练习") -> 未练习 | BP18: ✘
BL19: ▷ | BM19: ▷ | BN19: ▷
BL20: ▷ | BM20: ▷ | BN20: ▷
C21: 公司职能轨迹 | BN21: =IF(BP21="✔","已练习","未练习") -> 未练习 | BP21: ✘
C22: 菜鸟 | E22: 助理 | H22: 高级助理 | K22: 助理总监 | N22: 总监 | Q22: 区域总监 | T22: 副总裁 | W22: 高级副总裁 | Z22: 执行副总裁 | AC22: 主席 | BL22: ▷ | BM22: ▷ | BN22: ▷
C23: ▷ | D23: ▷ | E23: ▷ | F23: ▷ | G23: ▷ | H23: ▷ | I23: ▷ | J23: ▷ | K23: ▷ | L23: ▷ | M23: ▷ | N23: ▷ | O23: ▷ | P23: ▷ | Q23: ▷ | R23: ▷ | S23: ▷ | T23: ▷ | U23: ▷ | V23: ▷ | W23: ▷ | X23: ▷ | Y23: ▷ | Z23: ▷ | AA23: ▷ | AB23: ▷ | AC23: ▷ | AD23: ▷ | AE23: ▷ | AF23: ▷ | BL23: ▷ | BM23: ▷ | BN23: ▷
E24: A3 | H24: D4 | K24: G3 | N24: J3 | Q24: N3 | T24: Q3 | W24: T3 | Z24: W8 | AC24: Y2 | BN24: =IF(BP24="✔","已练习","未练习") -> 未练习 | BP24: ✘
C25: 每当你获得MVP，标记1个公司职能轨迹中的格子，且不划掉其它格子。 每当你标记1个公司职能轨迹中的格子，将1项素质保障的上限增加1点（单项素质保障上限为9），并获得3点嘉奖。 | BL25: ▷ | BM25: ▷ | BN25: ▷
BL26: ▷ | BM26: ▷ | BN26: ▷
BN27: =IF(BP27="✔","已练习","未练习") -> 未练习 | BP27: ✘
C28: 什么？这里有东西吗？ | BL28: ▷ | BM28: ▷ | BN28: ▷
C29: ▷ | D29: ▷ | E29: ▷ | F29: ▷ | G29: ▷ | H29: ▷ | I29: ▷ | J29: ▷ | K29: ▷ | L29: ▷ | M29: ▷ | N29: ▷ | O29: ▷ | P29: ▷ | Q29: ▷ | R29: ▷ | S29: ▷ | T29: ▷ | U29: ▷ | V29: ▷ | W29: ▷ | X29: ▷ | Y29: ▷ | Z29: ▷ | AA29: ▷ | AB29: ▷ | AC29: ▷ | AD29: ▷ | AE29: ▷ | AF29: ▷ | BL29: ▷ | BM29: ▷ | BN29: ▷
C30: ▷ | D30: ▷ | E30: ▷ | F30: ▷ | G30: ▷ | H30: ▷ | I30: ▷ | J30: ▷ | K30: ▷ | L30: ▷ | M30: ▷ | N30: ▷ | BN30: =IF(BP30="✔","已练习","未练习") -> 未练习 | BP30: ✘
BL31: ▷ | BM31: ▷ | BN31: ▷
BL32: ▷ | BM32: ▷ | BN32: ▷
BN33: =IF(BP33="✔","已练习","未练习") -> 未练习 | BP33: ✘
C34: 你一定是眼花了…. | BL34: ▷ | BM34: ▷ | BN34: ▷
C35: ▷ | D35: ▷ | E35: ▷ | F35: ▷ | G35: ▷ | H35: ▷ | I35: ▷ | J35: ▷ | K35: ▷ | BL35: ▷ | BM35: ▷ | BN35: ▷
BN36: =IF(BP36="✔","已练习","未练习") -> 未练习 | BP36: ✘
BL37: ▷ | BM37: ▷ | BN37: ▷
BL38: ▷ | BM38: ▷ | BN38: ▷
C40: 这里空无一物
C41: ▷ | D41: ▷ | E41: ▷ | F41: ▷ | G41: ▷ | H41: ▷ | I41: ▷ | J41: ▷ | K41: ▷ | L41: ▷ | M41: ▷ | N41: ▷ | O41: ▷ | P41: ▷ | Q41: ▷ | R41: ▷ | S41: ▷ | T41: ▷ | U41: ▷ | V41: ▷ | W41: ▷ | X41: ▷ | Y41: ▷ | Z41: ▷ | AA41: ▷ | AB41: ▷ | AC41: ▷ | AD41: ▷ | AE41: ▷ | AF41: ▷
C46: ？？？？？？？？？？？？？？？？？？？？？？？？？？
...

Sheet 入职问卷
B2: 入职问卷
B5: 序号 | D5: 问题 | P5: 回答 | AU5: ■ 示例& ○ 提示（示例仅供参考，如有需要可自行创作）
B7: 1 | D7: 你是如何与异常接触的？ | P7: 某天我非常绝望，为什么我当时没有认真学习法餐，而是满脑子想着英国菜也可以做得美味。在绝望之中，旁边出现了一个会做法餐的我 | AU7: ■ 你身边出现过某个异常，与其形成了先前的联系。 ■ 该异常由你的念头所创造。 ■ 在一次机构任务中，因意外而受到波及。 ■ 通过 “三角学院计划” 获得外勤工作机会并触及异常。
B12: 2 | D12: 公司是如何找到你的？ | P12: 我玩的太过了，重现了玛雅文明的佳肴。被餐厅找上了门，天知道公司怎末知道玛雅文明的菜是什么样的，又是怎么确认我做的是那边的菜，我甚至连调料都没找全！ | AU12: ■ 你在公共场合使用了自己的异常能力。 ■ 你意外卷入了一次公司任务。 ■ 你主动找到我们。
B17: 3 | D17: 你的期望年薪是多少？ | P17: 5万英镑每年 | AU17: ■ 0 美元（感谢你！）。 ■ 100 美元。 ■ 125,000 美元。
B22: 4 | D22: 你的外貌特征是什么？ | P22: 及其平庸标准的英国人长相，但是穿着十分怪异，总是喜欢穿萨莉亚餐厅前台服装 | AU22: ○为方便辨识，请尽量提供足以让人从拥挤人群中一眼认出你的线索。 ○这是以防“办公室照片资料再度受损”时能及时确认你的身份。
B27: 5 | D27: 你的异常能力是否有独特的视觉表现？ | P27: 衣服有的时候会在前台和厨师之间变换，为了掩盖这一点，总是在外面裹一个黑色毯子 | AU27: ■ 生长共鸣者造出的新肢体由液态金属构成，而非血肉。 ■ 低语共鸣者在说话时会在他人身上引发联觉效应。
B32: 6 | D32: 你喜欢什么样的咖啡？ | P32: 生嚼咖啡豆 | AU32: ■ 黑咖啡。 ■ 燕麦奶拿铁。 ■ 煎蛋。 ■ 没有比茶更带劲的了。
B37: 7 | D37: 在你的人际关系中，谁是你的主要联络人，为什么？ | P37: 里约大，唯一一个不会把店搞垮的 | AU37: ○我们会联系此人，以便在你享受第三项生命保险福利时征询他们对你的评价。
B42: 8 | D42: 在协作工作环境里，你能为团队带来什么？ | P42: 指挥，以及担当各位的介错人 | AU42: ■ 积极向上的心态。 ■ 值得信赖的工作作风。 ○让队友了解当他们需要你的支持时，你能提供怎样的帮助。
B47: 根据你选择的异常共鸣回答
B49: 9 | D49: =INDEX(date!$C$38:$K$38,MATCH(角色表!$X$3,date!$C$3:$K$3,0)) -> 不适用 | AU49: =INDEX(date!$C$39:$K$39,MATCH(角色表!$X$3,date!$C$3:$K$3,0)) -> 不适用
B54: 根据你选择的现实身份回答
B56: 10 | D56: =INDEX(date!$C$49:$K$49,MATCH(角色表!$X$7,date!$C$41:$K$41,0)) -> 别人曾为你做过的最伟大的事情是什么？ | P56: 帮我递过来厨房最顶层的果酱
B61: 11 | D61: =INDEX(date!$C$50:$K$50,MATCH(角色表!$X$7,date!$C$41:$K$41,0)) -> 当有人给你不请自来的批评时，你会怎样回应？ | P61: 耐心听着
B66: 12 | D66: =INDEX(date!$C$51:$K$51,MATCH(角色表!$X$7,date!$C$41:$K$41,0)) -> 你最喜欢的卡拉 OK 曲目是什么？ | P66: hiddeen in the sand
B71: 13 | D71: =INDEX(date!$C$53:$K$53,MATCH(角色表!$X$7,date!$C$41:$K$41,0)) -> 作为顶梁柱，你领导的组织是什么？ | P71: 萨莉亚第二餐厅 | AU71: =INDEX(date!$C$54:$K$54,MATCH(角色表!$X$7,date!$C$41:$K$41,0)) -> ○ 你是城中某个组织的领导者。此组织至少拥有十名成员，并且每周至少会聚一次。 如果是明确的组织事务，成员会协助你，也不会公然违抗你的指令。 ■ 犯罪家族 ■ 宗教教派 ■ 游戏俱乐部 ■ 独立商铺
B81: 根据你选择的公司职能回答
B83: 14 | D83: 你在本部门最想从事的工作是？ | P83: 前台
B88: 15 | D88: 你希望合作或直属的上司与同事？ | P88: 暂时无
B93: 16 | D93: =INDEX(date!$C$58:$K$58,MATCH(角色表!$X$11,date!$C$56:$K$56,0)) -> 不适用 | AU93: =INDEX(date!$C$59:$K$59,MATCH(角色表!$X$11,date!$C$56:$K$56,0)) -> 0
B98: 意见建议
B100: （你可以在这里写下以上问题不能涵盖的其它设定）

Sheet 报告书模板
B2: 任务报告
B5: 异常状态
B6: 已中和 | E6: ✘ | H6: 已收容 | K6: ✘ | N6: 任务评分 | Q6: GM填写
B9: 已逃脱 | E9: ✘ | H9: 其它 | K9: ✘ | N9: 混沌池
B12: 异常分析 | N12: 突出表现
B13: 代号 | N13: MVP
B14: 焦点
B15: 行为
N16: 待观察
B17: 域界
B19: 散逸端 | N19: 参与者
B20: 姓名 | E20: 编号 | G20: 备注
B28: 可选任务目标
B29: 目标 | J29: 奖励 | N29: 完成员工
B35: 一份完整的报告能使团队的每位成员获得3点嘉奖； 而一份卓越的报告能让团队中的每位成员获得6点嘉奖。

Sheet 车卡教程
B2: 极简车卡流程
B3: 1. 在表格“角色表”中填写“基本信息”栏目。
B4: 2. 查阅表格“A异常共鸣”、“R现实身份”、“C公司职能”并在表格“角色表”中的“ARC”栏目用下拉菜单进行选择。
B5: 3. 在表格“角色表”中找到“自我评估”栏目，根据显示的问题作答。
B6: 4. 在表格“角色表”中找到“素质保障”栏目，根据你在“自我评估”栏目中的回答调整每种素质的保障上限（即右侧的数字），并将每种素质保障调整至上限。
B8: 5. 查阅表格“R现实身份”中的“人际关系”列，在表格“角色表”中找到“人际关系矩阵”栏目并按要求填写（你只需要填写三条人际关系）。
B10: 6. 与指挥官和其它特工商量后，为你的人际关系分配扮演者。
B11: 7.（可选）使用表格”角色表“中的”扮演角色速查“功能快速查看你被分配到扮演的角色。（你可以使用表格”角色库“填入他们的信息）
B13: 8. 使用“人际关系矩阵”栏目中的“连接点”格调整你填写的人际关系的连接进度，为一条最亲密的人际关系分配6点连接，为其余两条各分配3点。
B15: 9. 填写表格“入职问卷”中的所有问题。
B16: 10. （可选）在表格“角色表”中贴上照片。
B18: 关于如何选择ARC
... B45: 5. 表格解锁密码为三位数字：123，如果遇到需要编辑的单元格被锁定或其他任何需要编辑本卡的情况，请尽情使用。

Sheet 规则速查
B2: 你可以在什么情况下掷骰？ | AE2: 现实改写的限制与规则 | BJ2: 每种素质代表着什么？
B3: a.在安全、可控的情况下发动异常能力时。 | AE3: 请谨慎使用这一非凡能力，并遵守以下原则： | BJ3: 缜密 | BN3: ● 关注细节 ● 理解复杂信息 ● 发现他人试图隐藏的真相
B4: b.提交现实改写请求时。 | AE4: 一 | AF4: 只能改写尚未被确认的事实。 a.你无法改变已经由特工或指挥官（GM） 确立的事实。 b.一旦某件事已被“观察”或“描述”，它便成为固定现实，无法被改写。 c.但未曾被提及的事物仍然是开放状态，可以通过现实改写进行塑造。
B6: 你不可以在什么情况下掷骰？ | BJ6: 欺瞒 | BN6: ● 说谎而不被察觉 ● 在自己不信服的情况下仍能说服他人 ● 表面支持，实则另有考量
B7: a.执行任何一般行动时（默认成功）。
B8: b.执行任何危险、困难、小概率行动时（默认失败），当你需要这样做时，应该直接提交现实改写请求来确保成功。
AE9: 二 | AF9: 公司无法直接影响个体的“自由意志”。 a.操控人心比操控系统、群体或环境要困难得多。 b.你的目标可以是改变某人的状态，但因果链必须依赖外部因素。 c.可行的案例： “这名建筑工人十分疲惫……”。 d.不可行的案例： “这名建筑工人突然决定睡觉。”（直接操控个人意志，不被允许） | BJ9: 活力 | BN9: ● 采取进攻性行动 ● 施加主导压力 ● 通过武力或强硬手段达成目的
B11: 如何提交现实改写请求？
B12: 1.描述你希望发生的具体情况。 | BJ12: 共情 | BN12: ● 与他人建立联系 ● 表达关切 ● 发现对方的弱点
B13: 2.提供事件发生的因果链。
B14: 3.展现此次改写所需要的专业素质。
B15: 4.执行掷骰流程。 | BJ15: 主动 | BN15: ● 前瞻性思考 ● 迅速行动 ● 在问题发生前就加以处理
B16: 5.根据掷骰结果执行改写效果（1个3就可以成功）。
AE17: 三 | AF17: 改写后的现实将永久生效。 a.一旦现实被改写，该事件及其因果链便会成为世界的一部分，你必须接受其后果。 b.所有涉及的事物都被确立，未来不能再进行修改。
B18: 如何发动异常能力？ | BJ18: 坚持 | BN18: ● 拒绝让步 ● 施加持续压力 ● 通过不懈纠缠迫使对方作出回应
B19: 1.触发你想发动的异常能力的条件或代价（见异常能力描述中的“触发”）。 例如： ■ 深吸一口气…… ■ 与某人握手…… ■ 当某人试图从你手中拿走某样东西时……
AE21: 四 | AF21: 因果链需要合理性。 a.因果链可以简单或模糊，但指挥官（GM）可以要求你提供更多细节，确保它听起来合理可行。 b.建议所有特工共同参与构建因果链，让事件听起来可信、有趣且融入世界观。 c.如果某个改写请求看起来过于奇怪、不自然或难以置信，团队应共同努力使其更具真实性。 5.指挥官（GM）拥有最终决定权，确定哪种素质最适用于你的改写请求。 | BJ21: 气质 | BN21: ● 在人群中吸引注意 ● 控制局势并指挥团队 ● 以激励或威慑的方式影响他人
B24: 2.查看能力对应的素质 | BJ24: 专业 | BN24: ● 在高压环境下保持冷静 ● 抵御干扰和分心因素 ● 免受精神影响或操控
B25: 3.执行掷骰流程。
B26: 4.根据掷骰结果执行异常能力的效果。
AE27: 导致嘉奖的行为 | AT27: 导致处分的行为 | BJ27: 低调 | BN27: ● 行动低调，避免不必要的关注 ● 以精准、谨慎的方式执行任务 ● 在不被察觉的情况下完成目标
B28: 掷骰流程： | AE28: 成功收容异常 | AT28: 允许异常逃脱
B29: 1.骰6d4。 | AE29: 执行你的公司职能的授权行为 | AT29: 违反你的公司职能的最高原则
B30: 2.是否骰出三重升华（即3个3）？ | AE30: 完成特定的可选任务目标 | AT30: 完成某些特定的可选任务目标
B31: 2.1.骰出三重升华，从下列效果中选择1项执行： a.全员协助：为本次掷骰添加任意数量的3； b.回顾补充：恢复任意3个已被消耗的素质保障； c.本刻之星：获得3次嘉奖； 之后，本次掷骰结束。 | AE31: 向其他特工清楚说明规则并提供帮助 | AT31: 在非工作场合使用异常能力
AE32: 准确指出另一名特工应当被记违规处分的情况 | AT32: 为叙述目的而扭曲或破坏游戏规则
AE33: 展现出对局方的卓越忠诚度（由指挥官评估） | AT33: 表现出不忠行为或发表负面机构相关言论
AE34: 任务结束后认真填写报告书 | AT34: 将“涟漪枪”用于非重要目标
B36: 2.2没有骰出三重升华，进行掷骰结果修正： 消耗任意点对应素质保障，将等量的掷骰结果变成3。
B38: 3.应用燃尽： 你每有1点燃尽，消耗结果中的1个3。
B40: 4.确定掷骰结果。
B41: 5.产生混沌： 除非掷骰结果中有3个3，否则增加[燃尽数量+不是3的骰子的数量]点混沌。

Sheet A异常共鸣
B2: 异常共鸣 | C2: 简介 | D2: 能力名称 | E2: 触发 | F2: 素质 | G2: 成功时 | H2: 能力增强 | I2: 失败时
B3: =INDEX(date!$C$3:$K$3,INT((ROW()-ROW($B$3))/3)+1) -> 低语 | C3: =INDEX(date!$C$4:$K$4,INT((ROW()-ROW($C$3))/3)+1) -> 低语（Whisper） 美好的情感在述说中逐渐变质，随意的谈话被推升为激烈的争吵，最后的告别声被喧嚣淹没。“低语”异常会在故事讲述的同时篡改故事本身。 低语善于操控语言在传递中变成信息的瞬间。他们轻率而善于操控；不需要谨慎，因为他们随时都能重来；不怕被抓，因为他们的举动看似微不足道。一次对话真的能演变成一整年的苦难吗？一个遗漏的词句真的能酿成十年的绝望吗？在低语出现的地方——绝对有可能。 在公司内，低语共鸣者往往是出色的领导者。他们总是知道该说什么，也总是能得到那个“好！”的回应。管理低语时，我们建议通过没有思维的中介（比如 AgencyOS）传达批评、请求和改进计划。在会议中，最好把他们的想法当作整个团队的意见。 | D3: =INDEX(date!$C$5:$K$27,CHOOSE(MOD(ROW()-ROW($D$3),3)+1,1,12,23),INT((ROW()-ROW($D$3))/3)+1) -> “再说一遍？” | E3: =INDEX(date!$C$6:$K$28,MOD(ROW()-ROW($E$3),3)*11+1,INT((ROW()-ROW($E$3))/3)+1) -> 当目标口头陈述时，回复“再说一遍？”，然后向小组说明目标实际上想说的话，而非他们最初所说的。 | F3: =INDEX(date!$C$7:$K$29,MOD(ROW()-ROW($F$3),3)*11+1,INT((ROW()-ROW($F$3))/3)+1) -> 气质 | G3: =INDEX(date!$C$8:$K$30,MOD(ROW()-ROW($G$3),3)*11+1,INT((ROW()-ROW($G$3))/3)+1) -> 目标会相信你所说的新句子正是他们原本想表达的。 | H3: =INDEX(date!$C$9:$K$31,MOD(ROW()-ROW($H$3),3)*11+1,INT((ROW()-ROW($H$3))/3)+1) -> 如果出现六个或更多的“3”，你在接下来的一个小时内可以随时替目标发言。 | I3: =INDEX(date!$C$10:$K$32,MOD(ROW()-ROW($I$3),3)*11+1,INT((ROW()-ROW($I$3))/3)+1) -> 目标不受影响，在接下来的三小时内，你只能使用你原本打算让他们说的那句话中的词语发言。
D4: =INDEX(date!$C$5:$K$27,CHOOSE(MOD(ROW()-ROW($D$3),3)+1,1,12,23),INT((ROW()-ROW($D$3))/3)+1) -> 舌尖上的秘密 | E4: =INDEX(date!$C$6:$K$28,MOD(ROW()-ROW($E$3),3)*11+1,INT((ROW()-ROW($E$3))/3)+1) -> 张开你的心扉，聆听身边目标的思绪。让他们的言语通过你传出。 | F4: =INDEX(date!$C$7:$K$29,MOD(ROW()-ROW($F$3),3)*11+1,INT((ROW()-ROW($F$3))/3)+1) -> 共情 | G4: =INDEX(date!$C$8:$K$30,MOD(ROW()-ROW($G$3),3)*11+1,INT((ROW()-ROW($G$3))/3)+1) -> 你会说出目标此刻希望自己说出的话。 | H4: =INDEX(date!$C$9:$K$31,MOD(ROW()-ROW($H$3),3)*11+1,INT((ROW()-ROW($H$3))/3)+1) -> 每三个“3”，你可以就目标当前相关的事物提出一个问题，并从 GM 那里获得答案；这个问题及其答案必须由你的角色大声说出。 | I4: =INDEX(date!$C$10:$K$32,MOD(ROW()-ROW($I$3),3)*11+1,INT((ROW()-ROW($I$3))/3)+1) -> 你会承认一些你绝不希望任何人知道的秘密。
D5: =INDEX(date!$C$5:$K$27,CHOOSE(MOD(ROW()-ROW($D$3),3)+1,1,12,23),INT((ROW()-ROW($D$3))/3)+1) -> 寂静 | E5: =INDEX(date!$C$6:$K$28,MOD(ROW()-ROW($E$3),3)*11+1,INT((ROW()-ROW($E$3))/3)+1) -> 张开嘴巴，发出一种能调整频率以抵消你所制造噪音的声音。 | F5: =INDEX(date!$C$7:$K$29,MOD(ROW()-ROW($F$3),3)*11+1,INT((ROW()-ROW($F$3))/3)+1) -> 低调 | G5: =INDEX(date!$C$8:$K$30,MOD(ROW()-ROW($G$3),3)*11+1,INT((ROW()-ROW($G$3))/3)+1) -> 在你进行下一次掷骰或闭上嘴之前，你的一切行动都不会产生任何声音。 | H5: =INDEX(date!$C$9:$K$31,MOD(ROW()-ROW($H$3),3)*11+1,INT((ROW()-ROW($H$3))/3)+1) -> 每额外获得一个“3”，你可以使另外一名目标的行动保持无声，直至该效果结束。 | I5: =INDEX(date!$C$10:$K$32,MOD(ROW()-ROW($I$3),3)*11+1,INT((ROW()-ROW($I$3))/3)+1) -> 你的频率失去平衡，在接下来的一小时内，你制造的所有声音都会被大幅放大。
B6: =INDEX(date!$C$3:$K$3,INT((ROW()-ROW($B$3))/3)+1) -> 编目 | C6: =INDEX(date!$C$4:$K$4,INT((ROW()-ROW($C$3))/3)+1) -> 编目（Catalogue） 每个鸡蛋里都藏着双黄，洗衣时总会多出一只袜子，完美契合的双打搭档。“编目”异常会准确地创造出你所需要的东西，并且完全按照你的想法呈现。 天性顽皮的编目异常，曾制造过历史上许多臭名昭著的意外：突然近在咫尺、避无可避的冰山，变异得以在新宿主中繁衍的病毒，落入敌手的关键作战计划……只要能对世界产生影响，编目就会把它造出来。它们的力量唯一的限制就是创造力，因此它们总是紧紧依附于想象力旺盛的宿主。 在公司内，员工可以在物资短缺或人手不足时，将经批准的编目能力投入到富有成效的用途上。注意：如果你发现某位与编目绑定的同事突然开始留胡子，或者询问“那些重要的历史事件在这里是不是也真的发生过”，那他很可能已经被复制体取代，必须立即上交接受再定向处理。 | D6: =INDEX(date!$C$5:$K$27,CHOOSE(MOD(ROW()-ROW($D$3),3)+1,1,12,23),INT((ROW()-ROW($D$3))/3)+1) -> “那边是什么？” | E6: =INDEX(date!$C$6:$K$28,MOD(ROW()-ROW($E$3),3)*11+1,INT((ROW()-ROW($E$3))/3)+1) -> 指向附近某处并说“那边是什么？”。 | F6: =INDEX(date!$C$7:$K$29,MOD(ROW()-ROW($F$3),3)*11+1,INT((ROW()-ROW($F$3))/3)+1) -> 缜密 | G6: =INDEX(date!$C$8:$K$30,MOD(ROW()-ROW($G$3),3)*11+1,INT((ROW()-ROW($G$3))/3)+1) -> 你在所指位置创造出一个物体。它可以是你想象中任何普通、无害且恰好能适应该空间的物品，但只能包含你所熟悉的细节或信息。 | H6: =INDEX(date!$C$9:$K$31,MOD(ROW()-ROW($H$3),3)*11+1,INT((ROW()-ROW($H$3))/3)+1) -> 每额外获得一个“3”，你可以在附近再创造一个物体。 | I6: =INDEX(date!$C$10:$K$32,MOD(ROW()-ROW($I$3),3)*11+1,INT((ROW()-ROW($I$3))/3)+1) -> GM 会描述一个现存但显得格格不入或极为不便的物体。
D7: =INDEX(date!$C$5:$K$27,CHOOSE(MOD(ROW()-ROW($D$3),3)+1,1,12,23),INT((ROW()-ROW($D$3))/3)+1) -> “你或许还会喜欢…” | E7: =INDEX(date!$C$6:$K$28,MOD(ROW()-ROW($E$3),3)*11+1,INT((ROW()-ROW($E$3))/3)+1) -> 拿起任何一个你能携带的小型物品。 | F7: =INDEX(date!$C$7:$K$29,MOD(ROW()-ROW($F$3),3)*11+1,INT((ROW()-ROW($F$3))/3)+1) -> 活力 | G7: =INDEX(date!$C$8:$K$30,MOD(ROW()-ROW($G$3),3)*11+1,INT((ROW()-ROW($G$3))/3)+1) -> 该物品会变成一个类似但又有所不同的版本。（例如，一件绿色外套变为蓝色外套，一个毛绒熊变为毛绒老虎， #203房间的钥匙变为 #204的……） | H7: =INDEX(date!$C$9:$K$31,MOD(ROW()-ROW($H$3),3)*11+1,INT((ROW()-ROW($H$3))/3)+1) -> 每当累计到第三个“3”，你可以为该物体添加一个额外的变体，允许你在这些变体之间自由切换，例如让一根拐杖可以在拐杖和剑之间转换。此效果为永久性，但仅在你持有该物体时可进行切换。 | I7: =INDEX(date!$C$10:$K$32,MOD(ROW()-ROW($I$3),3)*11+1,INT((ROW()-ROW($I$3))/3)+1) -> 该物体将被完全不同的物品取代，并且此后无法通过该能力进行更改。
D8: =INDEX(date!$C$5:$K$27,CHOOSE(MOD(ROW()-ROW($D$3),3)+1,1,12,23),INT((ROW()-ROW($D$3))/3)+1) -> 你最佳的自我 | E8: =INDEX(date!$C$6:$K$28,MOD(ROW()-ROW($E$3),3)*11+1,INT((ROW()-ROW($E$3))/3)+1) -> 打开一个你能够完全容纳其中的容器。 | F8: =INDEX(date!$C$7:$K$29,MOD(ROW()-ROW($F$3),3)*11+1,INT((ROW()-ROW($F$3))/3)+1) -> 欺瞒 | G8: =INDEX(date!$C$8:$K$30,MOD(ROW()-ROW($G$3),3)*11+1,INT((ROW()-ROW($G$3))/3)+1) -> 一个你的复制品会出现在容器内。这个复制品拥有一项对你当前情境特别有用的技能（如削木、口哨、搅拌等）。在一小时内，他们将从你的世界中消失。 | H8: =INDEX(date!$C$9:$K$31,MOD(ROW()-ROW($H$3),3)*11+1,INT((ROW()-ROW($H$3))/3)+1) -> 如果掷出六个或更多“3”，你可以创造出另一个复制品。 | I8: =INDEX(date!$C$10:$K$32,MOD(ROW()-ROW($I$3),3)*11+1,INT((ROW()-ROW($I$3))/3)+1) -> 你的复制品在你看来是邪恶的。他们的目标和优先事项与你完全相反，并决心在你前进的路上不断设障。只有在他们对自己所造成的改变感到满意时，他们才会自愿离开你的世界。
B9: =INDEX(date!$C$3:$K$3,INT((ROW()-ROW($B$3))/3)+1) -> 蚀耗 | C9: =INDEX(date!$C$4:$K$4,INT((ROW()-ROW($C$3))/3)+1) -> 蚀耗（Drain） 永不解渴的口渴，留下空虚的善言，逐渐消散的兴趣。“蚀耗”异常以欲望、腐朽和逐渐丧失为食。 就像蝎子之于青蛙，这些异常之所以夺取，是因为那就是它们的生存方式。凡是期待与现实交错的地方，蚀耗便会滋生：当金钱从钱包中跃出，当忠诚蜕变为厌恶，当观众为痛苦哄然大笑——蚀耗就在那儿收割它的份额。 与蚀耗绑定的员工擅长鼓舞团队士气，并能在任何需要的地方顶上，只要他们身边有人可以模仿。要注意，他们的力量很难抵抗。若你发现自己渐渐失去活力与魅力，而你的蚀耗同伴却在你的领域收获越来越多的喝彩，那就感谢他们吧——毕竟，他们只是把你的才能好好利用了一番！ | D9: =INDEX(date!$C$5:$K$27,CHOOSE(MOD(ROW()-ROW($D$3),3)+1,1,12,23),INT((ROW()-ROW($D$3))/3)+1) -> "还要来点吗？" | E9: =INDEX(date!$C$6:$K$28,MOD(ROW()-ROW($E$3),3)*11+1,INT((ROW()-ROW($E$3))/3)+1) -> 对你来说，欲望就像一个水桶。只需说一句“还要来点吗？”便能在其中戳出一个洞。 | F9: =INDEX(date!$C$7:$K$29,MOD(ROW()-ROW($F$3),3)*11+1,INT((ROW()-ROW($F$3))/3)+1) -> 共情 | G9: =INDEX(date!$C$8:$K$30,MOD(ROW()-ROW($G$3),3)*11+1,INT((ROW()-ROW($G$3))/3)+1) -> 与你交谈的目标会对他们最近享受过的那样东西（如关注、爱护、冰淇淋、休息等）产生浓厚兴趣。这一点由你和扮演该角色的玩家共同确认。这不会使他们上瘾或产生强迫症，但会使那件事（如果存在的话）变成远超其本身价值的筹码或干扰因素。 | H9: =INDEX(date!$C$9:$K$31,MOD(ROW()-ROW($H$3),3)*11+1,INT((ROW()-ROW($H$3))/3)+1) -> 每额外获得一个“3”，你可以将这种欲望扩散给附近另一个目标，产生类似效果。 | I9: =INDEX(date!$C$10:$K$32,MOD(ROW()-ROW($I$3),3)*11+1,INT((ROW()-ROW($I$3))/3)+1) -> 目标会对他们最近享受的那件事产生厌恶。你的“还要来点吗？”对他们来说变成了一种侮辱，从此以后，即便只是想到那件事也令他们作呕。
D10: =INDEX(date!$C$5:$K$27,CHOOSE(MOD(ROW()-ROW($D$3),3)+1,1,12,23),INT((ROW()-ROW($D$3))/3)+1) -> 借用 | E10: =INDEX(date!$C$6:$K$28,MOD(ROW()-ROW($E$3),3)*11+1,INT((ROW()-ROW($E$3))/3)+1) -> 选择一个普通目标身上的某个特征，并据为己有——无论是他们的面容、声音、爱情，还是指纹——现在这些都属于你，而对方则失去它们。 | F10: =INDEX(date!$C$7:$K$29,MOD(ROW()-ROW($F$3),3)*11+1,INT((ROW()-ROW($F$3))/3)+1) -> 欺瞒 | G10: =INDEX(date!$C$8:$K$30,MOD(ROW()-ROW($G$3),3)*11+1,INT((ROW()-ROW($G$3))/3)+1) -> 这一效果可以持续长达一小时。 | H10: =INDEX(date!$C$9:$K$31,MOD(ROW()-ROW($H$3),3)*11+1,INT((ROW()-ROW($H$3))/3)+1) -> ● 每额外获得一个“3”，你可以从以下选项中选择一个： ○ 目标保留被借特征的有缺陷版本； ○ 效果再延长一小时； ○ 你可以与另一目标共享所借特征。 | I10: =INDEX(date!$C$10:$K$32,MOD(ROW()-ROW($I$3),3)*11+1,INT((ROW()-ROW($I$3))/3)+1) -> 目标永久失去你所借走的特征，且无人能取代。目标会记住他们所失去的部分。
D11: =INDEX(date!$C$5:$K$27,CHOOSE(MOD(ROW()-ROW($D$3),3)+1,1,12,23),INT((ROW()-ROW($D$3))/3)+1) -> 通用受体 | E11: =INDEX(date!$C$6:$K$28,MOD(ROW()-ROW($E$3),3)*11+1,INT((ROW()-ROW($E$3))/3)+1) -> 当你受到伤害或以任何方式受损时。 | F11: =INDEX(date!$C$7:$K$29,MOD(ROW()-ROW($F$3),3)*11+1,INT((ROW()-ROW($F$3))/3)+1) -> 坚持 | G11: =INDEX(date!$C$8:$K$30,MOD(ROW()-ROW($G$3),3)*11+1,INT((ROW()-ROW($G$3))/3)+1) -> 选择一个在你附近的活人或异常（但不能是对你造成伤害的那个），让他们代替你受伤，而你则免受伤害。 | H11: =INDEX(date!$C$9:$K$31,MOD(ROW()-ROW($H$3),3)*11+1,INT((ROW()-ROW($H$3))/3)+1) -> 每额外获得一个“3”，你可以选择另外一个目标，使其也承受同样的伤害。 | I11: =INDEX(date!$C$10:$K$32,MOD(ROW()-ROW($I$3),3)*11+1,INT((ROW()-ROW($I$3))/3)+1) -> 你的痛苦会反弹回来，你将受到三倍的伤害。如果你死后仍有残余的伤害，该伤害会寻找附近的其他目标，直到所有伤害都得到传递。
B12: =INDEX(date!$C$3:$K$3,INT((ROW()-ROW($B$3))/3)+1) -> 时计 | C12: =INDEX(date!$C$4:$K$4,INT((ROW()-ROW($C$3))/3)+1) -> 时计（Timepiece） 永无止境的学堂时光，历历在目的回忆，逃脱后转瞬即至的死亡。“时计”异常为世界设定时间表，却从不在意日历。 时计的力量带来一种独特的随意自私。凡俗的世界被时间的流逝所桎梏，因此所有人都不得不屈从于时计的意志。耐心与深思本可以让它们成为无与伦比的善意之力，但更多时候，这些异常只会因厌倦而变得轻率，因为它们从不需要承担浪费的后果。 与时计绑定的员工极为珍贵，他们能确保每次会议都留有时间回答最后一个问题，也能让每个发薪周期都恰好纳入预算。然而，鉴于近期曝光的大规模滥用情况，如今在与时计共事时的标准流程是：隐藏所有截止日期，并要求工作必须在提出需求之前就完成。 | D12: =INDEX(date!$C$5:$K$27,CHOOSE(MOD(ROW()-ROW($D$3),3)+1,1,12,23),INT((ROW()-ROW($D$3))/3)+1) -> “我们还有时间！” | E12: =INDEX(date!$C$6:$K$28,MOD(ROW()-ROW($E$3),3)*11+1,INT((ROW()-ROW($E$3))/3)+1) -> 当你或目标急于完成一项任务（例如修车、逃离追捕等）时，查看任一时钟并说出“我们还有时间”。 | F12: =INDEX(date!$C$7:$K$29,MOD(ROW()-ROW($F$3),3)*11+1,INT((ROW()-ROW($F$3))/3)+1) -> 专业 | G12: =INDEX(date!$C$8:$K$30,MOD(ROW()-ROW($G$3),3)*11+1,INT((ROW()-ROW($G$3))/3)+1) -> 你说对了。如果任务专注且真诚地进行，它将在迫近的截止日期之前完成。 | H12: =INDEX(date!$C$9:$K$31,MOD(ROW()-ROW($H$3),3)*11+1,INT((ROW()-ROW($H$3))/3)+1) -> 每额外获得一个“3”，你可以在截止日期前额外获得一分钟的准备时间，以便用于其他活动。 | I12: =INDEX(date!$C$10:$K$32,MOD(ROW()-ROW($I$3),3)*11+1,INT((ROW()-ROW($I$3))/3)+1) -> 你大错特错——直到为时已晚你才发现这一点。你的追捕者会出其不意地袭击你，截止日期早已过去……所有的时间去哪了？
D13: =INDEX(date!$C$5:$K$27,CHOOSE(MOD(ROW()-ROW($D$3),3)+1,1,12,23),INT((ROW()-ROW($D$3))/3)+1) -> 抓紧时间 | E13: =INDEX(date!$C$6:$K$28,MOD(ROW()-ROW($E$3),3)*11+1,INT((ROW()-ROW($E$3))/3)+1) -> 当你或盟友为除本能力以外的某项异常能力掷骰时，确定掷骰结果后，用力击打一只时钟。 | F13: =INDEX(date!$C$7:$K$29,MOD(ROW()-ROW($F$3),3)*11+1,INT((ROW()-ROW($F$3))/3)+1) -> 主动 | G13: =INDEX(date!$C$8:$K$30,MOD(ROW()-ROW($G$3),3)*11+1,INT((ROW()-ROW($G$3))/3)+1) -> 你将目标送回过去以协助自己，使其能够以相同数量的“3”再次使用同一能力。此第二次使用可影响新的目标，并且不会产生混沌或三重升华效应。 | H13: =INDEX(date!$C$9:$K$31,MOD(ROW()-ROW($H$3),3)*11+1,INT((ROW()-ROW($H$3))/3)+1) -> 每额外获得一个“3”，你可以在第二次使用中额外增加一个“3”，此效果甚至可使一次掷骰的“3”数量超过六个。 | I13: =INDEX(date!$C$10:$K$32,MOD(ROW()-ROW($I$3),3)*11+1,INT((ROW()-ROW($I$3))/3)+1) -> 原始掷骰结果变为失败，随后该能力再次失败。第二次失败要么在同一目标上重复，要么转移到另一个目标上，以造成更严重后果为准。复制的失败不会产生混沌。
D14: =INDEX(date!$C$5:$K$27,CHOOSE(MOD(ROW()-ROW($D$3),3)+1,1,12,23),INT((ROW()-ROW($D$3))/3)+1) -> 回忆过去 | E14: =INDEX(date!$C$6:$K$28,MOD(ROW()-ROW($E$3),3)*11+1,INT((ROW()-ROW($E$3))/3)+1) -> 哼一段旋律，让目标感受到对逝去时光的强烈怀旧之情。 | F14: =INDEX(date!$C$7:$K$29,MOD(ROW()-ROW($F$3),3)*11+1,INT((ROW()-ROW($F$3))/3)+1) -> 共情 | G14: =INDEX(date!$C$8:$K$30,MOD(ROW()-ROW($G$3),3)*11+1,INT((ROW()-ROW($G$3))/3)+1) -> 所有过去的事件，即使是最近的，也显得遥远而充满感伤。目标迫切地想要谈论他们的过去，并很容易被引导讨论你感兴趣的话题——即使那些话题通常是机密或受限的。 | H14: =INDEX(date!$C$9:$K$31,MOD(ROW()-ROW($H$3),3)*11+1,INT((ROW()-ROW($H$3))/3)+1) -> 每累计到第三个“3”，你可以要求 GM 用完美细致的方式描述某个特定记忆或事件过程，该描述不会受到记忆自然衰退的影响。这一效果甚至能揭示那些因异常导致的记忆阻塞或清除背后的信息。 | I14: =INDEX(date!$C$10:$K$32,MOD(ROW()-ROW($I$3),3)*11+1,INT((ROW()-ROW($I$3))/3)+1) -> 目标会迷失在自己的记忆中，情绪泛滥，变得对收集信息毫无作用。要将他们从回忆中拉回现实，需要花费大量时间和精力，而这种状态会产生至少一个松散端。
B15: =INDEX(date!$C$3:$K$3,INT((ROW()-ROW($B$3))/3)+1) -> 生长 | C15: =INDEX(date!$C$4:$K$4,INT((ROW()-ROW($C$3))/3)+1) -> 生长（Growth） 刀枪不入的英雄，千臂奔腾的怪物，窃贼能透墙甚至在黑暗中锁定目标。“生长”异常通过突变肉体来改变未来。它们在人类社会与野性自然中同样游刃有余，总是隐藏在显眼处。 生长异常与地球的自然周期相融合，通过微小调整带来深远影响。也许一只小鼹鼠被赋予巨大体型以守护领地，首席财务官突然获得直觉增强，或者一只蝴蝶的翅膀略微长大。不久，地震、企业盈利和飓风都随之而动，而生长也从中汲取力量。 拥有生长能力的员工，初看可能因身体能力出众而受到赞赏，但他们更微妙的一面同样不可小觑：他们总是最先洞察团队的重大弱点。然而，这些员工不适合担任领导职务。他们最适合在有发展机会、可以自由“生长”的岗位上工作。 | D15: =INDEX(date!$C$5:$K$27,CHOOSE(MOD(ROW()-ROW($D$3),3)+1,1,12,23),INT((ROW()-ROW($D$3))/3)+1) -> “我来保护你！” | E15: =INDEX(date!$C$6:$K$28,MOD(ROW()-ROW($E$3),3)*11+1,INT((ROW()-ROW($E$3))/3)+1) -> 当附近的目标将受到外部力量的伤害时，喊出“我来保护你！”并延伸你的肉体去保护他们。 | F15: =INDEX(date!$C$7:$K$29,MOD(ROW()-ROW($F$3),3)*11+1,INT((ROW()-ROW($F$3))/3)+1) -> 坚持 | G15: =INDEX(date!$C$8:$K$30,MOD(ROW()-ROW($G$3),3)*11+1,INT((ROW()-ROW($G$3))/3)+1) -> 你会迅速在目标周围生长出额外的肉体，替他们承受攻击。所有的损伤、伤害或死亡将转嫁给你，而非目标。 | H15: =INDEX(date!$C$9:$K$31,MOD(ROW()-ROW($H$3),3)*11+1,INT((ROW()-ROW($H$3))/3)+1) -> 每累计一个额外的“3”，你会为自己披上一层额外的保护肉体。这次受到的伤害等级减少1，其多余的伤害转移到未来。（更高的数字会使你的身体出现明显的变化，直到那层肉体消耗掉吸收了伤害。） | I15: =INDEX(date!$C$10:$K$32,MOD(ROW()-ROW($I$3),3)*11+1,INT((ROW()-ROW($I$3))/3)+1) -> 你和目标都会承受原本的伤害。你的身体会生长得超出你的意图，并以明显的过度生长状态存在，直至你有至少一小时的休息恢复。
D16: =INDEX(date!$C$5:$K$27,CHOOSE(MOD(ROW()-ROW($D$3),3)+1,1,12,23),INT((ROW()-ROW($D$3))/3)+1) -> 肢体 | E16: =INDEX(date!$C$6:$K$28,MOD(ROW()-ROW($E$3),3)*11+1,INT((ROW()-ROW($E$3))/3)+1) -> 扩展你的身体能力，长出额外与你现有肢体相似的新肢体。 | F16: =INDEX(date!$C$7:$K$29,MOD(ROW()-ROW($F$3),3)*11+1,INT((ROW()-ROW($F$3))/3)+1) -> 活力 | G16: =INDEX(date!$C$8:$K$30,MOD(ROW()-ROW($G$3),3)*11+1,INT((ROW()-ROW($G$3))/3)+1) -> 你获得的伸展范围和控制力远超普通战斗者，能够轻松牵制任何普通目标或次级异常目标。 | H16: =INDEX(date!$C$9:$K$31,MOD(ROW()-ROW($H$3),3)*11+1,INT((ROW()-ROW($H$3))/3)+1) -> ● 每累计一个额外的“3”，你可以从下列选项中选择一个： ○ 拆除一个目标的武器； ○ 同时牵制另一个目标； ○ 使一个已被牵制的目标失去意识； ○ 杀死一个失去意识的目标。 | I16: =INDEX(date!$C$10:$K$32,MOD(ROW()-ROW($I$3),3)*11+1,INT((ROW()-ROW($I$3))/3)+1) -> 你会变成仅由肢体组成的存在，其他特征消失，成为一个你原本期望创造的肢体集合体。你在接下来的一个小时内极其笨拙，且易受伤害。
D17: =INDEX(date!$C$5:$K$27,CHOOSE(MOD(ROW()-ROW($D$3),3)+1,1,12,23),INT((ROW()-ROW($D$3))/3)+1) -> 眼睛 | E17: =INDEX(date!$C$6:$K$28,MOD(ROW()-ROW($E$3),3)*11+1,INT((ROW()-ROW($E$3))/3)+1) -> 长出更多的眼睛。 | F17: =INDEX(date!$C$7:$K$29,MOD(ROW()-ROW($F$3),3)*11+1,INT((ROW()-ROW($F$3))/3)+1) -> 专业 | G17: =INDEX(date!$C$8:$K$30,MOD(ROW()-ROW($G$3),3)*11+1,INT((ROW()-ROW($G$3))/3)+1) -> ● 你可以花费“3”来激活以下视觉效果，这些效果持续 1 小时：1：热能视觉、夜视或望远视觉； 2：指纹识别视觉或 X 光视觉； 3：现实透视（能穿透幻象和迷雾）; 4：植物记号语言；5：异常追踪；6：弱点探测；7：预知未来。 | H17: =INDEX(date!$C$9:$K$31,MOD(ROW()-ROW($H$3),3)*11+1,INT((ROW()-ROW($H$3))/3)+1) -> 无 | I17: =INDEX(date!$C$10:$K$32,MOD(ROW()-ROW($I$3),3)*11+1,INT((ROW()-ROW($I$3))/3)+1) -> 你会看到“终结预兆”。你获得一段关于万物终结的禁忌知识，这知识超出你的心智所能承受。直到任务结束，你在所有掷骰时都会额外受到一次燃尽。
B18: =INDEX(date!$C$3:$K$3,INT((ROW()-ROW($B$3))/3)+1) -> 枪 | C18: =INDEX(date!$C$4:$K$4,INT((ROW()-ROW($C$3))/3)+1) -> 枪（Gun） 一句话结束了。一条生命结束了。一份宏大而真挚、追求可得美好的希望，也结束了。“枪”异常出现，就是为了立即制止这一切。 枪异常愤世嫉俗而自豪，是凡俗世界中臭名昭著的祸害。它们的影响在社会各阶层传播痛苦、恐惧与悲伤。然而，它们的力量不仅限于机械：舞台上帷幕的拍击声、门的砰然关上、分手短信的轻微提示声——这些都在它们的掌控范围之内。它们可能寻找真正需要力量的宿主，但最终，总会逐渐腐化。 在员工手中，枪异常能带来准时、高效与整洁。遵循公司的操作规范可以确保不会滥用或过度使用，而与枪绑定的员工在各部门都深受喜爱。强烈建议你确保他们对此有所认识。 | D18: =INDEX(date!$C$5:$K$27,CHOOSE(MOD(ROW()-ROW($D$3),3)+1,1,12,23),INT((ROW()-ROW($D$3))/3)+1) -> 抹除 | E18: =INDEX(date!$C$6:$K$28,MOD(ROW()-ROW($E$3),3)*11+1,INT((ROW()-ROW($E$3))/3)+1) -> 用你的枪瞄准，永久性地从当前场景中移除一个普通的物体或人。曾经他们存在；现在他们已不复存在。 | F18: =INDEX(date!$C$7:$K$29,MOD(ROW()-ROW($F$3),3)*11+1,INT((ROW()-ROW($F$3))/3)+1) -> 活力 | G18: =INDEX(date!$C$8:$K$30,MOD(ROW()-ROW($G$3),3)*11+1,INT((ROW()-ROW($G$3))/3)+1) -> 目标会无影无踪地消失。 | H18: =INDEX(date!$C$9:$K$31,MOD(ROW()-ROW($H$3),3)*11+1,INT((ROW()-ROW($H$3))/3)+1) -> 若掷出六个或更多“3”：在你视线中的由你选择的任意数量的普通物品或人都会无影无踪地消失。 | I18: =INDEX(date!$C$10:$K$32,MOD(ROW()-ROW($I$3),3)*11+1,INT((ROW()-ROW($I$3))/3)+1) -> 目标被杀死。一个物体被摧毁，一个生物死亡。这一结果显而易见，且可能产生松散端。
D19: =INDEX(date!$C$5:$K$27,CHOOSE(MOD(ROW()-ROW($D$3),3)+1,1,12,23),INT((ROW()-ROW($D$3))/3)+1) -> 快枪出击 | E19: =INDEX(date!$C$6:$K$28,MOD(ROW()-ROW($E$3),3)*11+1,INT((ROW()-ROW($E$3))/3)+1) -> 当有人试图伤害你时，立即开火。 | F19: =INDEX(date!$C$7:$K$29,MOD(ROW()-ROW($F$3),3)*11+1,INT((ROW()-ROW($F$3))/3)+1) -> 主动 | G19: =INDEX(date!$C$8:$K$30,MOD(ROW()-ROW($G$3),3)*11+1,INT((ROW()-ROW($G$3))/3)+1) -> 你抢先开火，袭击者在发动攻击前会先承受1级伤害等级，他们的攻击也因此无法伤害到你。 | H19: =INDEX(date!$C$9:$K$31,MOD(ROW()-ROW($H$3),3)*11+1,INT((ROW()-ROW($H$3))/3)+1) -> 每额外获得一个“3”，你可以选择另一个目标，使其受到伤害，或对已经被此能力伤害过的目标进行抹除。 | I19: =INDEX(date!$C$10:$K$32,MOD(ROW()-ROW($I$3),3)*11+1,INT((ROW()-ROW($I$3))/3)+1) -> 你走火，导致对你来说重要的人或事物受到损害，而原本针对你的攻击照常进行。
D20: =INDEX(date!$C$5:$K$27,CHOOSE(MOD(ROW()-ROW($D$3),3)+1,1,12,23),INT((ROW()-ROW($D$3))/3)+1) -> 明火携带 | E20: =INDEX(date!$C$6:$K$28,MOD(ROW()-ROW($E$3),3)*11+1,INT((ROW()-ROW($E$3))/3)+1) -> 你的枪所带来的威胁如此巨大，以至于连平凡之人也能感知到。向目标明确展示你的枪。 | F20: =INDEX(date!$C$7:$K$29,MOD(ROW()-ROW($F$3),3)*11+1,INT((ROW()-ROW($F$3))/3)+1) -> 气质 | G20: =INDEX(date!$C$8:$K$30,MOD(ROW()-ROW($G$3),3)*11+1,INT((ROW()-ROW($G$3))/3)+1) -> ● 你专注的某个目标因受到足够的威慑而按你的要求行事。然而，GM将从下列后果中选择一种让目标承受： ○ 记住你的面孔； ○ 联系当局； ○ 极度恐惧地反应； ○ 寻求报复。 | H20: =INDEX(date!$C$9:$K$31,MOD(ROW()-ROW($H$3),3)*11+1,INT((ROW()-ROW($H$3))/3)+1) -> 每额外获得一个“3”，你可以选择移除一个可能的后果选项，或增加一个目标。例如，掷出六个“3”可能意味着没有后果但有两个目标，或者五个目标且所有潜在后果均适用。 | I20: =INDEX(date!$C$10:$K$32,MOD(ROW()-ROW($I$3),3)*11+1,INT((ROW()-ROW($I$3))/3)+1) -> 目标毫不畏惧，他们对你的枪产生免疫，并可能立即以危险的方式进行报复。
B21: =INDEX(date!$C$3:$K$3,INT((ROW()-ROW($B$3))/3)+1) -> 梦境 | C21: =INDEX(date!$C$4:$K$4,INT((ROW()-ROW($C$3))/3)+1) -> 梦境（Dream） 床脚的怪物，一夜之间经历出生、生命与死亡，你在一部从未拍摄的电影中出现的面孔。“梦境”异常决定你是否想醒来，然后决定你究竟能否醒来。 梦境在绝望与喜悦的边缘舞蹈，煽动受害者潜意识的动荡，创造出完美的戏剧性表现。它们可能潜伏在未完成的手稿中，流窜于博物馆的走廊，吸引公众的注意力到广告牌上，或将每一个微小问题放大至不成比例。 与梦境异常绑定的员工往往在公司内非常受欢迎！梦境共鸣者能够察觉团队因恐惧、缺乏动力或办公室布置不当而受阻。请注意，拥有梦境能力的员工，如未取得书面同意，不得参加公司的读书会，以防他们在会议前“修正”书籍内容。 | D21: =INDEX(date!$C$5:$K$27,CHOOSE(MOD(ROW()-ROW($D$3),3)+1,1,12,23),INT((ROW()-ROW($D$3))/3)+1) -> 噩梦 | E21: =INDEX(date!$C$6:$K$28,MOD(ROW()-ROW($E$3),3)*11+1,INT((ROW()-ROW($E$3))/3)+1) -> 将自己投射到超越现实的境界中。选择一个目标，将其心灵的阴影裹挟在你身体里。 | F21: =INDEX(date!$C$7:$K$29,MOD(ROW()-ROW($F$3),3)*11+1,INT((ROW()-ROW($F$3))/3)+1) -> 气质 | G21: =INDEX(date!$C$8:$K$30,MOD(ROW()-ROW($G$3),3)*11+1,INT((ROW()-ROW($G$3))/3)+1) -> 你可以采取一个虚幻的形态，以这种形态出现在目标面前。该形态可能是可怕的、美丽的，或平凡无奇的——而目标会相信这就是你的真实形态。 | H21: =INDEX(date!$C$9:$K$31,MOD(ROW()-ROW($H$3),3)*11+1,INT((ROW()-ROW($H$3))/3)+1) -> ● 每当累计到第三个“3”，你可以要求扮演目标的玩家在你采取此形态之前，说出下列选项中的一个： ○ 他们最深的恐惧 ○ 他们最大的目标 ○ 他们最隐秘的渴望 | I21: =INDEX(date!$C$10:$K$32,MOD(ROW()-ROW($I$3),3)*11+1,INT((ROW()-ROW($I$3))/3)+1) -> 你的真实身份会深深铭刻在目标的心中——夜晚他们会梦见你，白天他们会想起你。至于今天，也许什么都不会发生。
D22: =INDEX(date!$C$5:$K$27,CHOOSE(MOD(ROW()-ROW($D$3),3)+1,1,12,23),INT((ROW()-ROW($D$3))/3)+1) -> 午睡时光 | E22: =INDEX(date!$C$6:$K$28,MOD(ROW()-ROW($E$3),3)*11+1,INT((ROW()-ROW($E$3))/3)+1) -> 向目标身上撒一把细沙。 | F22: =INDEX(date!$C$7:$K$29,MOD(ROW()-ROW($F$3),3)*11+1,INT((ROW()-ROW($F$3))/3)+1) -> 低调 | G22: =INDEX(date!$C$8:$K$30,MOD(ROW()-ROW($G$3),3)*11+1,INT((ROW()-ROW($G$3))/3)+1) -> 你使目标突然陷入沉睡。他们会做美梦，醒来后以为自己是自然打盹了几分钟。 | H22: =INDEX(date!$C$9:$K$31,MOD(ROW()-ROW($H$3),3)*11+1,INT((ROW()-ROW($H$3))/3)+1) -> ● 每个额外的3，选择一项： ○ 你可以将此效果扩展至额外一个目标。 ○ 该效果再延长一小时。 | I22: =INDEX(date!$C$10:$K$32,MOD(ROW()-ROW($I$3),3)*11+1,INT((ROW()-ROW($I$3))/3)+1) -> 另一名目标、一个盟友，甚至可能是你自己，会被迫陷入沉睡。变幻莫测的沙粒明显地旋转着，而原本的目标则清楚地看到你所做的一切。
D23: =INDEX(date!$C$5:$K$27,CHOOSE(MOD(ROW()-ROW($D$3),3)+1,1,12,23),INT((ROW()-ROW($D$3))/3)+1) -> 实地参观 | E23: =INDEX(date!$C$6:$K$28,MOD(ROW()-ROW($E$3),3)*11+1,INT((ROW()-ROW($E$3))/3)+1) -> 走进一幅画、一张照片、一段视频、一部小说或其他艺术作品中， | F23: =INDEX(date!$C$7:$K$29,MOD(ROW()-ROW($F$3),3)*11+1,INT((ROW()-ROW($F$3))/3)+1) -> 缜密 | G23: =INDEX(date!$C$8:$K$30,MOD(ROW()-ROW($G$3),3)*11+1,INT((ROW()-ROW($G$3))/3)+1) -> 你和你选择的任何附近盟友将进入那幅作品所描绘的世界。在其中，你可以操控物体，与人物交谈，并以原始画面中未曾展示的角度观察世界。 | H23: =INDEX(date!$C$9:$K$31,MOD(ROW()-ROW($H$3),3)*11+1,INT((ROW()-ROW($H$3))/3)+1) -> ● 每当累计到第三个“3”，你可以选择一个： ○ 你和你的盟友改变外貌以融入那件艺术品中。 ○ 当你离开时，这件艺术品恢复到原始状态。 | I23: =INDEX(date!$C$10:$K$32,MOD(ROW()-ROW($I$3),3)*11+1,INT((ROW()-ROW($I$3))/3)+1) -> 你会忘记如何掩盖自己的行踪。来自附近艺术作品中的投机角色可能会跟随你，并自行进入现实世界。
B24: =INDEX(date!$C$3:$K$3,INT((ROW()-ROW($B$3))/3)+1) -> 流形 | C24: =INDEX(date!$C$4:$K$4,INT((ROW()-ROW($C$3))/3)+1) -> 流形（Manifold） 没有出口的迷宫，一眨眼就结束的公路旅行，失重的睡者，在坠落中醒来。“流形”异常把空间视为可选方案，把物理法则视为空间那些无聊的伙伴。 流形异常特立独行且喜欢掌控，它们乐于连点成线并进行所谓的“改进”。它们将道路纠结成无法穿越的结，将愉快的旅程拖延成折磨，甚至让飞机在本应保持空旷的空域坠毁。当世界碰撞时，往往是因为这些异常认定它应该如此。 拥有流形能力的员工通常擅长高效送达任务并避免干扰。然而，如果你发现通勤时间变长，或订书机漂浮到够不着的地方，请立即与可能得罪的流形异常员工申请调解。 | D24: =INDEX(date!$C$5:$K$27,CHOOSE(MOD(ROW()-ROW($D$3),3)+1,1,12,23),INT((ROW()-ROW($D$3))/3)+1) -> "我知道捷径！" | E24: =INDEX(date!$C$6:$K$28,MOD(ROW()-ROW($E$3),3)*11+1,INT((ROW()-ROW($E$3))/3)+1) -> 当你急于赶往某处时，喊出“我知道捷径！”并描述一条通向目标地点的捷径。 | F24: =INDEX(date!$C$7:$K$29,MOD(ROW()-ROW($F$3),3)*11+1,INT((ROW()-ROW($F$3))/3)+1) -> 主动 | G24: =INDEX(date!$C$8:$K$30,MOD(ROW()-ROW($G$3),3)*11+1,INT((ROW()-ROW($G$3))/3)+1) -> 不论捷径看起来多么不可能，你的描述都对你有效。这条捷径一旦使用便会消失。 | H24: =INDEX(date!$C$9:$K$31,MOD(ROW()-ROW($H$3),3)*11+1,INT((ROW()-ROW($H$3))/3)+1) -> 每额外获得一个“3”，另外一人可以在捷径消失前使用它。 | I24: =INDEX(date!$C$10:$K$32,MOD(ROW()-ROW($I$3),3)*11+1,INT((ROW()-ROW($I$3))/3)+1) -> 你的捷径会引导到一个极为不便的地方，而非目标地点，而且这条捷径会持续存在，且对双向都公开可见。
D25: =INDEX(date!$C$5:$K$27,CHOOSE(MOD(ROW()-ROW($D$3),3)+1,1,12,23),INT((ROW()-ROW($D$3))/3)+1) -> 继续前行…… | E25: =INDEX(date!$C$6:$K$28,MOD(ROW()-ROW($E$3),3)*11+1,INT((ROW()-ROW($E$3))/3)+1) -> 当你为目标指路、逃离目标追捕或得知目标的去向时，打个结。你可以试图将他们困在一个迷宫或无尽的走廊中。 | F25: =INDEX(date!$C$7:$K$29,MOD(ROW()-ROW($F$3),3)*11+1,INT((ROW()-ROW($F$3))/3)+1) -> 坚持 | G25: =INDEX(date!$C$8:$K$30,MOD(ROW()-ROW($G$3),3)*11+1,INT((ROW()-ROW($G$3))/3)+1) -> 你将他们困在你设计的复杂而循环重复的路径中。他们在你下次掷骰前无法脱身。 | H25: =INDEX(date!$C$9:$K$31,MOD(ROW()-ROW($H$3),3)*11+1,INT((ROW()-ROW($H$3))/3)+1) -> 每额外获得一个“3”，你可以额外困住一个目标，或使迷宫延续更多次掷骰。 | I25: =INDEX(date!$C$10:$K$32,MOD(ROW()-ROW($I$3),3)*11+1,INT((ROW()-ROW($I$3))/3)+1) -> 你会立即加速他们前往目的地——他们马上到达目标，或者立刻追上你。
D26: =INDEX(date!$C$5:$K$27,CHOOSE(MOD(ROW()-ROW($D$3),3)+1,1,12,23),INT((ROW()-ROW($D$3))/3)+1) -> 旋转万向架 | E26: =INDEX(date!$C$6:$K$28,MOD(ROW()-ROW($E$3),3)*11+1,INT((ROW()-ROW($E$3))/3)+1) -> 调整你的平衡。 | F26: =INDEX(date!$C$7:$K$29,MOD(ROW()-ROW($F$3),3)*11+1,INT((ROW()-ROW($F$3))/3)+1) -> 专业 | G26: =INDEX(date!$C$8:$K$30,MOD(ROW()-ROW($G$3),3)*11+1,INT((ROW()-ROW($G$3))/3)+1) -> 你可以将重力方向改变至你选择的方向，最多可改变90度。如果你在室内，则只影响该房间；如果在室外，则影响大约30米范围内的一切。此效果持续，直到你下次掷骰。 | H26: =INDEX(date!$C$9:$K$31,MOD(ROW()-ROW($H$3),3)*11+1,INT((ROW()-ROW($H$3))/3)+1) -> ● 每额外获得一个“3”，你可以选择下列一项： ○ 该变化不影响某个单一目标（例如你自己）； ○ 对单一目标而言，作用范围无限； ○ 对单一目标，重力旋转角度超过90度。 | I26: =INDEX(date!$C$10:$K$32,MOD(ROW()-ROW($I$3),3)*11+1,INT((ROW()-ROW($I$3))/3)+1) -> 你会失去重力的束缚。在至少一小时内，你的身体仿佛置身于零重力环境。任何看到这一幕的人都会成为松散端。
B27: =INDEX(date!$C$3:$K$3,INT((ROW()-ROW($B$3))/3)+1) -> 缺失 | C27: =INDEX(date!$C$4:$K$4,INT((ROW()-ROW($C$3))/3)+1) -> 缺失（Absence） 轻轻摇摆却无人乘坐的秋千，从无法穿越的监狱中成功逃脱的经历，悲伤……凡有“有”与“无”之处，便有**“缺失”异常**。 缺失异常难以看见、难以理解，也难以捕捉，常常只能通过轮廓来描述。它们不可触及、孤独无依，其力量最明显地体现在错位的货物、不完整的计划，以及静默的绝望中。它们是工业与生产力的敌人，同时也是自己的敌人：它们必须总是处于失落状态，否则就无法存在。 对于拥有缺失能力的员工来说，邮箱清零（Inbox Zero）轻而易举！把最棘手的问题和最复杂的麻烦交给他们，看着它们消失于无形。（记得在他们不知情的地方保留一份待办事项清单备份。） | D27: =INDEX(date!$C$5:$K$27,CHOOSE(MOD(ROW()-ROW($D$3),3)+1,1,12,23),INT((ROW()-ROW($D$3))/3)+1) -> “没打中！” | E27: =INDEX(date!$C$6:$K$28,MOD(ROW()-ROW($E$3),3)*11+1,INT((ROW()-ROW($E$3))/3)+1) -> 当有东西可能触碰或伤害你时，喊出“没打中！”。 | F27: =INDEX(date!$C$7:$K$29,MOD(ROW()-ROW($F$3),3)*11+1,INT((ROW()-ROW($F$3))/3)+1) -> 欺瞒 | G27: =INDEX(date!$C$8:$K$30,MOD(ROW()-ROW($G$3),3)*11+1,INT((ROW()-ROW($G$3))/3)+1) -> 你出现在附近的别处——也许就在试图触碰你的东西的后面或上方。 | H27: =INDEX(date!$C$9:$K$31,MOD(ROW()-ROW($H$3),3)*11+1,INT((ROW()-ROW($H$3))/3)+1) -> 每额外获得一个“3”，你可以将另一名愿意且位于附近的目标与你一同移动到新的位置。 | I27: =INDEX(date!$C$10:$K$32,MOD(ROW()-ROW($I$3),3)*11+1,INT((ROW()-ROW($I$3))/3)+1) -> 目标会被移动到其他地方——可能去伤害别人、处于一个会产生额外伤害的角度，或被送到一个极为不便的位置。
D28: =INDEX(date!$C$5:$K$27,CHOOSE(MOD(ROW()-ROW($D$3),3)+1,1,12,23),INT((ROW()-ROW($D$3))/3)+1) -> 否定痕迹 | E28: =INDEX(date!$C$6:$K$28,MOD(ROW()-ROW($E$3),3)*11+1,INT((ROW()-ROW($E$3))/3)+1) -> 检查一个曾经存在某件东西的位置。 | F28: =INDEX(date!$C$7:$K$29,MOD(ROW()-ROW($F$3),3)*11+1,INT((ROW()-ROW($F$3))/3)+1) -> 缜密 | G28: =INDEX(date!$C$8:$K$30,MOD(ROW()-ROW($G$3),3)*11+1,INT((ROW()-ROW($G$3))/3)+1) -> 你能看见你所检查位置失去的历史。如果有便条被移走，你会知道其内容；如果有物品被盗，你会知道它是什么以及它是如何消失的。 | H28: =INDEX(date!$C$9:$K$31,MOD(ROW()-ROW($H$3),3)*11+1,INT((ROW()-ROW($H$3))/3)+1) -> 每累计到第三个“3”，你可以说出一句描述失去之物的陈述，这句话绝对真实。 | I28: =INDEX(date!$C$10:$K$32,MOD(ROW()-ROW($I$3),3)*11+1,INT((ROW()-ROW($I$3))/3)+1) -> 你会被所在地点的历史所压倒，并受到1点伤害，外加因你明显而痛苦的反应而产生的任何松散端。
D29: =INDEX(date!$C$5:$K$27,CHOOSE(MOD(ROW()-ROW($D$3),3)+1,1,12,23),INT((ROW()-ROW($D$3))/3)+1) -> 解脱 | E29: =INDEX(date!$C$6:$K$28,MOD(ROW()-ROW($E$3),3)*11+1,INT((ROW()-ROW($E$3))/3)+1) -> 当有事物挡住了你的路或拖累你时，放松身体。 | F29: =INDEX(date!$C$7:$K$29,MOD(ROW()-ROW($F$3),3)*11+1,INT((ROW()-ROW($F$3))/3)+1) -> 低调 | G29: =INDEX(date!$C$8:$K$30,MOD(ROW()-ROW($G$3),3)*11+1,INT((ROW()-ROW($G$3))/3)+1) -> 你能直接穿过阻挡物，变得无形，在接下来的一小时内可轻松穿越墙壁、链条和其他障碍。 | H29: =INDEX(date!$C$9:$K$31,MOD(ROW()-ROW($H$3),3)*11+1,INT((ROW()-ROW($H$3))/3)+1) -> ● 每累计到第三个“3”，选择一项： ○ 你变得隐形； ○ 你变得无法被听见； ○ 你在某个观察者眼中变得难以被记住； ○ 每当你使用此能力穿越障碍时，你可以带上一个人同行。 | I29: =INDEX(date!$C$10:$K$32,MOD(ROW()-ROW($I$3),3)*11+1,INT((ROW()-ROW($I$3))/3)+1) -> 你失去对身体形态的控制，变得极度不稳定。你将无法感知、握持或与物理物体互动，但在任务剩余期间或直至死亡前，你仍可能受到伤害。

Sheet R现实身份
B2: 现实身份 | C2: 简介 | D2: 特殊 | E2: 现实触发器 （为你带来麻烦的东西） | G2: 力竭释放 （让你无视力竭的行为） | I2: 人际关系 （你能找谁帮忙？） | K2: 编号 | L2: 连接奖励 （这段关系能怎样帮助你？） | M2: 奖励内容
B3: =INDEX(date!$C$41:$K$41,ROW()-ROW($B$3)+1) -> 看护人 | C3: =INDEX(date!$C$42:$K$42,ROW()-ROW($C$3)+1) -> 看护人（Caretaker）与他们随行的依赖对象（Dependent）有着深厚的羁绊。在工作中，依赖对象不断学习与成长。脆弱而珍贵，他们的新鲜目光与坚定内心为看护者带来韧性、机智和耐心。总有一天，当看护人不在时，他们的依赖对象将成为其道德观、指导能力和博爱情怀的活生生见证。 目前，他们大多数时候只是在制造混乱。 大量内部测试表明，爱几乎没有任何战术价值。依赖对象对任务的成功漠不关心，我们几乎每周都必须提醒员工，“《小鬼当街》（Baby’s Day Out）是一场彻底失败的行动”。即使不在执行任务时，休闲时间、个人交往和内心独白往往也被依赖对象占据，使这些员工只剩下机械背诵着儿歌和“真好，亲爱的”的空洞回应的空壳。 然而，如果没有依赖对象，我们发现这些看护人员工会失去工作的热情。 至少，管理者可以放心，看护人因为承担树立榜样的压力，会在实地工作中自觉避免失败。 | D3: =INDEX(date!$C$43:$K$43,ROW()-ROW($D$3)+1) -> 依赖对象： 你的依赖对象是一个共享角色：在任何场景中，它可以由你或你的 GM 扮演。只要你的生命保险政策处于激活状态，你的依赖对象便能享受其带来的好处。 ■ 宝宝 ■ 动物 ■ 初生的人工智能 ■ 外星生物 | E3: =INDEX(date!$C$44:$K$44,ROW()-ROW($E$3)+1) -> 依赖型 | F3: =INDEX(date!$C$45:$K$45,ROW()-ROW($F$3)+1) -> GM 可以利用现实触发器使你的依赖对象急需关注。如果你忽视这一信号，你的依赖对象会立即大发脾气，并在之后要求你投入更多时间：与你的依赖对象最缺乏默契的那段关系将失去1点连接。 如果你让你的依赖对象独自处理问题、任由他们受到伤害，或将他们置于他人监管之下，你们之间的关系会受到损害。此时，请在四格“独立”轨迹中勾选下一个空格。当所有格子都被勾选，或者他们的发展超出了你的掌控时，你的依赖对象将不再依赖于你——你必须选择一个新的现实身份。 | G3: =INDEX(date!$C$47:$K$47,ROW()-ROW($G$3)+1) -> 这是你最爱的！ | H3: =INDEX(date!$C$48:$K$48,ROW()-ROW($H$3)+1) -> 当你在做某件能让你的依赖对象感到愉悦的事情时，无视所有燃尽。 | I3: =INDEX(date!$C$52:$K$52,ROW()-ROW($I$3)+1) -> ● 如果你不在了，谁会获得你依赖对象的监护权？ 示例：浪漫伴侣、父母、武器制造商。 ● 谁会怀念你曾经拥有的自由？ 示例：大学好友、你的孩子、保龄球队。 ● 谁是你依赖对象总是乐于与之共度时光的人？ 示例：前夫、青少年偶像、动物园管理员。 | K3: =INDEX(date!$B$98:$B$109,ROW()-ROW($K$3)+1) -> 1 | L3: =INDEX(date!$C$98:$C$109,ROW()-ROW($L$3)+1) -> 聪慧 | M3: =INDEX(date!$D$98:$D$109,ROW()-ROW($M$3)+1) -> 此人总是走在前沿。在你下一次任务中，你可以随时召唤他提前预警潜在的危险或悲剧。
B4: =INDEX(date!$C$41:$K$41,ROW()-ROW($B$3)+1) -> 卷王 | C4: =INDEX(date!$C$42:$K$42,ROW()-ROW($C$3)+1) -> 卷王（Overbooked） 卷王员工因自豪或必要，在凡俗世界中兼顾另一份职业。他们通常为了他人利益而努力，渴望做好每一件事，因此承诺同时处理两份满满的日程。若能顺利驾驭这一困境，他们会赢得多个群体的认可，在多个领域获得满足感，并留下双倍于常人的业绩遗产。但这同样是一种巨大的时间浪费。 这类员工的优先事项常常混乱不清，注意力难以集中，问题如戈尔迪之结般复杂。凡俗世界像啼叫的雏鸟一样不断在他们耳边喧嚣。他们的生活几乎全被工作占据，人际关系往往让他们陷入不必要的承诺之路。失去平衡、同时辜负公司和自我只是时间问题，而非能否发生的问题。 尽管如此，完美效率的诱惑不可否认，而选择这种生活方式的员工在追求“全能人生”的旅程中，容不得失败。 | D4: =INDEX(date!$C$43:$K$43,ROW()-ROW($D$3)+1) -> 职业选择： ■ 记者 ■ 公共辩护律师 ■ 家教 ■ 雕塑家助手 | E4: =INDEX(date!$C$44:$K$44,ROW()-ROW($E$3)+1) -> 工作手机 | F4: =INDEX(date!$C$45:$K$45,ROW()-ROW($F$3)+1) -> 你拥有一部专门用于你另一份职业的智能手机。GM 可利用现实触发器让你某段人际关系随时打这个电话。如果你忽视了该电话，该关系将失去1点连接。 如果你未能履行你职业的必要职责，或丢失了手机，请在四格“有什么事变化了”轨迹中标记下一个空格。当所有格子都被标记，或者情况发展到超出你掌控时，你的职业将不可逆转地终止。如果因这种方式或其他方式结束，你必须选择一个新的现实身份。 | G4: =INDEX(date!$C$47:$K$47,ROW()-ROW($G$3)+1) -> 穿针引线 | H4: =INDEX(date!$C$48:$K$48,ROW()-ROW($H$3)+1) -> 当你在从事与你的另一份职业相关的工作或练习时，无视所有燃尽。 | I4: =INDEX(date!$C$52:$K$52,ROW()-ROW($I$3)+1) -> ● 谁是你的另一位老板？ 示例：快餐经理、论文导师、Instagram 上出名的狗。 ● 谁最关心你的健康？ 示例：报摊经营者、父母、邻居。 ● 你负责照顾谁？ 示例：画廊助理、IT 实习生、调皮捣蛋的孩子 | K4: =INDEX(date!$B$98:$B$109,ROW()-ROW($K$3)+1) -> 2 | L4: =INDEX(date!$C$98:$C$109,ROW()-ROW($L$3)+1) -> 富有同情心 | M4: =INDEX(date!$D$98:$D$109,ROW()-ROW($M$3)+1) -> 此人极具理解力，善于与人交往。在此奖励生效期间，他们不会变成松散端；如果你请求他们帮助平息一小群人的情绪，他们很可能成功。
B5: =INDEX(date!$C$41:$K$41,ROW()-ROW($B$3)+1) -> 被追捕者 | C5: =INDEX(date!$C$42:$K$42,ROW()-ROW($C$3)+1) -> 被追捕者（Pursued） 被追捕者员工正努力躲避他们的过去。无论清白或有罪，高尚或悲剧，他们都生活在不断的恐惧之中，因为过去永远不肯放过他们。真是对“坚持”二字的最佳诠释！ 被追捕者机智、坚韧且富有创造力，是创造性问题解决和结果导向工作的典范。长期处于高度警觉的生活让他们行动轻巧、言语谨慎、道德灵活——是完美的员工。 公司通常会为这些员工提供新身份，并安排他们加入远离追捕者的外勤小组，但彻底消除他们的过去是不可能的。即便没有“未了之事”的潜在威胁，他们也会失去那份让他们如此高效的恐惧感！ | D5: =INDEX(date!$C$43:$K$43,ROW()-ROW($D$3)+1) -> 黑暗过往： 你的同事并不了解你的过去，而你也最好保持缄默。请选择一个最能描述你现状的类别，并将详细信息私下告知 GM。 1. 犯罪：你正躲避自己曾经犯下的罪行，受到执法部门或过去受害者的追捕。 2. 被猎杀：有某个人或某种东西在追捕你。也许和你相似的人都已经遭难……但你所能做的，只有隐藏自己。 3. 不告而别：你因为难以承担的责任而选择离开，抛下了那些依赖你的人。他们仍在找你。 | E5: =INDEX(date!$C$44:$K$44,ROW()-ROW($E$3)+1) -> 身陷追踪 | F5: =INDEX(date!$C$45:$K$45,ROW()-ROW($F$3)+1) -> GM 可以利用现实触发器来突出一个认出你的人，他们会向追捕你的人汇报。如果你不花时间让对方无法追踪你，他们就会开始挖掘你的私生活：与该目标最不熟悉你的一段关系失去 1 点连接，并在下次与你的互动场景中向你提出一些尖锐的问题。 如果你向熟人或会认出你的人暴露自己的新身份或地点，请在四格“被抓住”轨迹中标记下一个空格。当所有格子都已标记，或者你的过去终于找上门来（无论是由于该效果还是其他因素），你必须选择新的现实。 | G5: =INDEX(date!$C$47:$K$47,ROW()-ROW($G$3)+1) -> 不是我 | H5: =INDEX(date!$C$48:$K$48,ROW()-ROW($H$3)+1) -> 当你在做任何能掩盖自己行踪的事情时，无视所有燃尽。 | I5: =INDEX(date!$C$52:$K$52,ROW()-ROW($I$3)+1) -> ● 谁知道追捕你的人？ 示例：雇主、手足、与你同为目标的受害者。 ● 若发现真相，谁会受到最大伤害？ 示例：表面情侣、年长的房东、孩子。 ● 谁对现在的你异常痴迷？ 示例：玩滑板的青少年、痴心邻居、星探经纪人。 | K5: =INDEX(date!$B$98:$B$109,ROW()-ROW($K$3)+1) -> 3 | L5: =INDEX(date!$C$98:$C$109,ROW()-ROW($L$3)+1) -> 人脉广泛 | M5: =INDEX(date!$D$98:$D$109,ROW()-ROW($M$3)+1) -> 此人认识所有人。如果你需要介绍给除极为隐秘和保密的人之外的所有人，他们都能帮忙安排。如果因此让他们尴尬，你将失去与该关系的一点连接。
B6: =INDEX(date!$C$41:$K$41,ROW()-ROW($B$3)+1) -> 明星 | C6: =INDEX(date!$C$42:$K$42,ROW()-ROW($C$3)+1) -> 明星（Star） 凭借才华、能力或与生俱来的魅力，明星员工无论走到哪里都能轻松赢得喜爱与崇拜。他们的全球知名度和瞬间认知力为他们打开各种大门，也吸引无数好处。不论他们是流行歌手、政治新星，还是单纯因出名而出名的人，目睹明星的“千载难逢”的才能本身就是一种奖励。 当然，这也是巨大的负担。在一个需要谨慎、保密、避免“未了之事”的职业生涯中，成群的喧闹、贪得无厌的粉丝成了永恒的困扰。与这些员工结交的朋友，往往只考虑自身利益。媒体时刻关注着他们的一举一动……对于世界地位的维持，这还需要巨大的自尊心支撑。 然而，没有任何明星可以永远光芒不衰，所有崭露头角的公众人物对认可的渴望，也让这些员工始终专注于成功。毕竟，没有什么比半途而废更令人尴尬！ | D6: =INDEX(date!$C$43:$K$43,ROW()-ROW($D$3)+1) -> 闪光点： 你的的成名方式是什么？ ■ 演员 ■ 小说家 ■ 商业大师 ■ 音乐人 | E6: =INDEX(date!$C$44:$K$44,ROW()-ROW($E$3)+1) -> 你最狂热的粉丝 | F6: =INDEX(date!$C$45:$K$45,ROW()-ROW($F$3)+1) -> 你到处都有粉丝，他们都想尽办法得到你的注意。GM 可以利用这个现实触发器，让某个人认出你并疯狂地想要吸引你的关注。如果你对他们视而不见，他们会当场制造一番混乱，之后还会在网上抱怨：那个因你失势而损失最大的关系会因此失去 1 点连接。 如果你做了什么损害自身名誉的事，你的明星光环便开始黯淡。请在四格“过气”轨迹中标记下一个空格。当所有格子都被标记，或当你放弃了成为焦点的目标，你的明星之路就此终结：你必须选择新的现实身份。 | G6: =INDEX(date!$C$47:$K$47,ROW()-ROW($G$3)+1) -> 尽情享受 | H6: =INDEX(date!$C$48:$K$48,ROW()-ROW($H$3)+1) -> 当你做出某些能彰显你的优势或证明你价值的行为时，无视所有燃尽。 | I6: =INDEX(date!$C$52:$K$52,ROW()-ROW($I$3)+1) -> ● 谁是你的经纪人？ ○ 示例：舞台妈妈、经纪人、幕僚长。 ● 从你过去的生活中，谁仍然留在你身边？ ○ 示例：前二重唱搭档、高中时的恋人、舞蹈老师。 ● 谁是你最大的竞争对手？ ○ 示例：外貌和你极其相似的人、比你更受欢迎的人、曾经与你交往过的名人。 | K6: =INDEX(date!$B$98:$B$109,ROW()-ROW($K$3)+1) -> 4 | L6: =INDEX(date!$C$98:$C$109,ROW()-ROW($L$3)+1) -> 诅咒 | M6: =INDEX(date!$D$98:$D$109,ROW()-ROW($M$3)+1) -> 此人在场时，总是事与愿违。在你的一次任务中，你可以请求他们礼貌地与某人或某事互动，这样诅咒就会传染给他们，为他们的一天制造不便和混乱。
B7: =INDEX(date!$C$41:$K$41,ROW()-ROW($B$3)+1) -> 底层草根 | C7: =INDEX(date!$C$42:$K$42,ROW()-ROW($C$3)+1) -> 底层草根（Struggling） 肩负巨额债务、持续开销或收入不足，底层草根员工总是入不敷出。他们依赖他人支持，忍受令人不快的环境，并因必要而讨价还价。他们几乎是每位雇主的理想员工！ 虽然公司很想提供帮助，但预算通常不允许。幸运的是，底层草根的处境带来了明显的好处：他们愿意接更多班次、工作更长时间，并在面临被解雇的威胁时立即提高效率。在许多情况下，他们甚至在无薪岗位上也会如此，并完全依赖表彰来维持生计。他们还为同事提供“额外福利”：报告显示，当团队中有底层草根员工可以用来对比生活方式时，大多数员工的士气都会显著提升。 底层草根必须时刻提醒自己，工作能维持生活，公司晋升阶梯提供了足够的保障，因此没有必要去挥霍债务或“寻找”中彩票的机会。异常能力不得用于个人用途。 | D7: =INDEX(date!$C$43:$K$43,ROW()-ROW($D$3)+1) -> 债务成因： 你的负债来源是什么？ ■ 学生贷款 ■ 医疗账单 ■ 误信骗局 ■ 他人更需要这笔钱 | E7: =INDEX(date!$C$44:$K$44,ROW()-ROW($E$3)+1) -> 钱包里的苍蝇 | F7: =INDEX(date!$C$45:$K$45,ROW()-ROW($F$3)+1) -> 底层草根从来没有足够的钱，而这个世界消费高昂。GM 可以利用现实触发器让某项你必须支付的费用（比如出租车费、入场费等）超出你的承受范围。若你找不到办法逃避支付，就只能向朋友借钱：你可以任选一段关系，它会因此失去 1 点连接。 当你获得一大笔钱时，你所背负的债务便会如影随形，这笔钱很快就会被花光。此时，请在四格“一无所有”轨迹中标记下一个空格。当四格均被标记，或你找到一种方法可以永久逃避这些责任，你就必须选择一个新的现实身份。 | G7: =INDEX(date!$C$47:$K$47,ROW()-ROW($G$3)+1) -> 一分都不多 | H7: =INDEX(date!$C$48:$K$48,ROW()-ROW($H$3)+1) -> 当你在做能让你占到便宜的事情时，无视所有燃尽。 | I7: =INDEX(date!$C$52:$K$52,ROW()-ROW($I$3)+1) -> ● 你依靠谁来提供住所？ ○ 示例：父母、马戏团壮汉、办公室经理。 ● 你欠了谁最多的钱？ ○ 示例：房东、高利贷者、富有的朋友。 ● 你最想让谁看到你过上更好的生活？ ○ 示例：前妻、侄子、外卖员。 | K7: =INDEX(date!$B$98:$B$109,ROW()-ROW($K$3)+1) -> 5 | L7: =INDEX(date!$C$98:$C$109,ROW()-ROW($L$3)+1) -> 早期采用者 | M7: =INDEX(date!$D$98:$D$109,ROW()-ROW($M$3)+1) -> 此人拥有各式各样的奇异小工具。在你的一次任务中，你可以展示一款与当前情境高度契合的、他们已允许你借用的独特设备。如果该设备损坏或丢失，你将失去与该关系的一点连接。
B8: =INDEX(date!$C$41:$K$41,ROW()-ROW($B$3)+1) -> 新生儿 | C8: =INDEX(date!$C$42:$K$42,ROW()-ROW($C$3)+1) -> 新生（Newborn） 无论是刚孵化、刚启动，还是刚来到这个世界，新生员工都对现代生活不熟悉。大多数新生员工还不会阅读，因此我们假定有可信赖的监护人正在为他们解读本页内容。 监护人：在帮助该员工组填好他们的 ARC 后，请向人力资源部报到，以便进行处理和消毒。 | D8: =INDEX(date!$C$43:$K$43,ROW()-ROW($D$3)+1) -> 不适用 | E8: =INDEX(date!$C$44:$K$44,ROW()-ROW($E$3)+1) -> 仍在学习 | F8: =INDEX(date!$C$45:$K$45,ROW()-ROW($F$3)+1) -> GM 可以利用现实触发器来让你忘记或从未学会某项日常技能（例如开门、用吐司机、开枪、说出“耳屎”这个词等）。你当下无法完成这个动作，必须寻求他人协助或另辟蹊径。若你没有花时间去找到解决办法，你会因难堪而退缩：你最在意其看法的那段关系将失去 1 点连接。 如果你为适应世界而改变自我，请在四格“自我塑造”轨迹中勾选下一个空格。当所有格子都勾选，或你找到了彻底逃避这些责任的办法，你就必须选择新的现实身份。 | G8: =INDEX(date!$C$47:$K$47,ROW()-ROW($G$3)+1) -> 如同归家 | H8: =INDEX(date!$C$48:$K$48,ROW()-ROW($H$3)+1) -> 当你在做一些能让世界更像你自身归属的事情时，无视所有燃尽。 | I8: =INDEX(date!$C$52:$K$52,ROW()-ROW($I$3)+1) -> ● 你最喜欢的老师是谁？ 示例：杂货店老板、早熟的孩子、收音机 DJ。 ● 谁需要你的独特视角？ 示例：机械师、中情局对接人、你的养兄。 ● 谁最爱利用你的天真？ 示例：赌场老板、恶童、整蛊节目主持人。 | K8: =INDEX(date!$B$98:$B$109,ROW()-ROW($K$3)+1) -> 6 | L8: =INDEX(date!$C$98:$C$109,ROW()-ROW($L$3)+1) -> 激励型 | M8: =INDEX(date!$D$98:$D$109,ROW()-ROW($M$3)+1) -> 通过与你的这位好友共同进行某项友谊仪式（比如喝饮料、打街头篮球、互相涂指甲油等），你可以在任务中任意时刻为自己恢复 3 点已用的素质保证点。
B9: =INDEX(date!$C$41:$K$41,ROW()-ROW($B$3)+1) -> 海王 | C9: =INDEX(date!$C$42:$K$42,ROW()-ROW($C$3)+1) -> 海王（Romantic） 海王员工，无论好坏，总是极易坠入爱河。他们不断用自己的魅力编织出复杂的关系网，无论是在寻找新的追求对象、无意中吸引他人，还是只因随心而动。我们也不完全明白他们到底在想什么。 作为出了名的取悦他人的人，他们对他人兴趣的敏锐关注是外勤小组中不可替代的资产。在一个依赖信任获取收益的工作环境中，他们建立个人联系的速度至关重要。不幸的是，如果缺乏监督，这些联系可能让海王陷入自己设计的复杂情感网。 虽然员工寻求上级的认可和肯定是有价值的，但这些员工在他人眼中的表现决定了他们的兴衰，这也让他们获得了分心和反复无常的名声。尽量让他们对规则心存抵触。 幸运的是，他们制造的问题往往也是他们最感兴趣去解决的。海王在被不喜欢时似乎会获得一种奇怪的能量爆发，会不遗余力地争取重新赢得他人的好感。 | D9: =INDEX(date!$C$43:$K$43,ROW()-ROW($D$3)+1) -> 总能让你心动： 你首先注意到别人哪方面？ ■ 眼睛 ■ 天赋 ■ 穿搭 ■ 无精打采的气质 | E9: =INDEX(date!$C$44:$K$44,ROW()-ROW($E$3)+1) -> 糟糕，TA太吸引人了 | F9: =INDEX(date!$C$45:$K$45,ROW()-ROW($F$3)+1) -> 当机遇出现时，你无法忽视。GM 可以利用现实触发器让你感觉到一丝“氛围”——这种氛围或许是真实的，也可能完全是你想象出来的。 如果你没把握住这个“机会”，你就会纠结于这次错过的邂逅，无法专心投入当下：你最接近“真实情感”的那段关系因此失去 1 点连接。 每当一段现有关系阻碍你探索新的可能性时，请在四格“安顿下来”轨迹中勾选下一个空格。当所有格子都被勾满，说明你已经找到了自己想要的，或至少知道自己在寻找什么。你必须选择新的现实身份。 | G9: =INDEX(date!$C$47:$K$47,ROW()-ROW($G$3)+1) -> 对，我就是很迷人 | H9: =INDEX(date!$C$48:$K$48,ROW()-ROW($H$3)+1) -> 当你在做某些能让你看起来更具吸引力或更惹人怜爱之事时，无视所有燃尽。 | I9: =INDEX(date!$C$52:$K$52,ROW()-ROW($I$3)+1) -> ● 你最久的“暧昧关系”是谁？ ○ 示例：每周在交友软件上见面的对象、好朋友的女友的好朋友、总在相同婚礼上遇到的那个人。 ● 谁从来没觉得你有任何魅力？ ○ 示例：私人教练、老板、初中好闺蜜。 ● 对于谁的浪漫可能性你完全没有察觉？ ○ 示例：体贴入微的酒保、每次倾诉时的“肩膀”、你家中的幽灵。 | K9: =INDEX(date!$B$98:$B$109,ROW()-ROW($K$3)+1) -> 7 | L9: =INDEX(date!$C$98:$C$109,ROW()-ROW($L$3)+1) -> 时尚达人 | M9: =INDEX(date!$D$98:$D$109,ROW()-ROW($M$3)+1) -> 此人衣橱里拥有你可能需要的一切。如果你需要换装、伪装或一套令人印象深刻的服装，他们会迅速轻松地提供给你。如果你毁坏或丢失了他们的任何物品，你将失去与该关系的一点连接。
B10: =INDEX(date!$C$41:$K$41,ROW()-ROW($B$3)+1) -> 顶梁柱 | C10: =INDEX(date!$C$42:$K$42,ROW()-ROW($C$3)+1) -> 顶梁柱（Backbone） 无论是读书会还是政治家族，顶梁柱员工负责管理一个由多名成员组成的组织。担任并维持这一职位为他们带来特权、声望与权力——当然，这并不一定对他们有实质帮助。 在职场之外承担如此广泛责任的员工，在实地工作中总是多任务并行。尽管有更紧迫的事务，他们仍然经常帮忙、调解争端，并为众多成员补上遗漏。他们对组织的巨大自豪感使他们容易被分心、敲诈或勒索。而他们专注于让成员满意，又常常宁愿长篇大论地沟通，也不愿意用简短明了的邮件解决问题。 | D10: =INDEX(date!$C$43:$K$43,ROW()-ROW($D$3)+1) -> 组织： 你是城中某个组织的领导者。此组织至少拥有十名成员，并且每周至少会聚一次。 如果是明确的组织事务，成员会协助你，也不会公然违抗你的指令。 ■ 犯罪家族 ■ 宗教教派 ■ 游戏俱乐部 ■ 独立商铺 | E10: =INDEX(date!$C$44:$K$44,ROW()-ROW($E$3)+1) -> 无尽责任 | F10: =INDEX(date!$C$45:$K$45,ROW()-ROW($F$3)+1) -> GM 可以在任何时刻让你的一位组织成员向你提出需求。如果你对其视而不见，你在组织内部的形象就会大受影响，且任何了解你组织的人也会对你评价下降：你的继任者（见“人际关系矩阵”）的扮演者选择的一段关系失去 1 点连接。 如果你违反了组织的规则或让其他成员感到尴尬，请在四格“被排挤”轨迹中勾选下一个空格。当所有格子都已被勾选，或者你主动让位，你的继任者将接管组织，而你必须选择新的现实身份。 | G10: =INDEX(date!$C$47:$K$47,ROW()-ROW($G$3)+1) -> 这是我的名片 | H10: =INDEX(date!$C$48:$K$48,ROW()-ROW($H$3)+1) -> 当你在做任何能扩大组织影响力的事情时，无视所有燃尽。 | I10: =INDEX(date!$C$52:$K$52,ROW()-ROW($I$3)+1) -> ● 谁是你的继任者？ ○ 示例：手足、心机副手、备受爱戴的孤儿。 ● 谁在威胁你组织的存在？ ○ 示例：敌对组织、本地政客、不安分的害群之马。 ● 谁总是记不住你们组织的名字？ ○ 示例：学校校长、配偶、攀岩教练。 | K10: =INDEX(date!$B$98:$B$109,ROW()-ROW($K$3)+1) -> 8 | L10: =INDEX(date!$C$98:$C$109,ROW()-ROW($L$3)+1) -> 有影响力 | M10: =INDEX(date!$D$98:$D$109,ROW()-ROW($M$3)+1) -> 在每次任务中，你可以向此人传达一个想法、趋势或观点，他们会立即通过自己的网络将其传播出去。之后，除极为隐秘的人外，所有你遇到的人都会知道这个想法并形成看法。
B11: =INDEX(date!$C$41:$K$41,ROW()-ROW($B$3)+1) -> 异类 | C11: =INDEX(date!$C$42:$K$42,ROW()-ROW($C$3)+1) -> 异类（Creature） 厌倦了生活在社会边缘，异类员工离开了自己的家，加入了现代世界。无论是吸血鬼、机器人，还是突变的乌龟，这些员工现在以假身份生活在普通人中间，并随时可能因为一次失误而暴露身份。 尽管这些员工拥有与人类无缝融合的天赋或人工手段，但他们的自制力往往难以抵挡非人类的欲望。无论他们渴望阳光、咸水，还是鲜血，异类员工比任何其他人更可能追求未在任务简报中提及的目标。他们的人际关系常常让忠诚度变得复杂，他们的习俗也常常让旁观者困惑。 然而，他们融入人类社会的渴望让他们保持专注，对被发现的恐惧激发了他们的警觉。在公司看来，没有什么比努力像普通人一样更高尚的了。 | D11: =INDEX(date!$C$43:$K$43,ROW()-ROW($D$3)+1) -> 不适用 | E11: =INDEX(date!$C$44:$K$44,ROW()-ROW($E$3)+1) -> 此刻就必须… | F11: =INDEX(date!$C$45:$K$45,ROW()-ROW($F$3)+1) -> 你的真实自我有一些需求，其他人可能理解，但永远无法真正共享。GM可以使用“现实触发器”让这些冲动浮现于你的意识之上。如果你忽略了这种冲动，为了忽略它而消耗的意志力会让你与他人沟通困难：最相信你伪装的关系会失去1点连接。 如果你的真实自我被坦白或暴露给某人，在“四格‘揭示’轨道”中标记下一个空格。当所有格子都被标记，或者你以无法挽回的方式公开暴露时，你的伪装将不再起作用。如果你还能继续工作，你必须选择一个新的现实身份。 | G11: =INDEX(date!$C$47:$K$47,ROW()-ROW($G$3)+1) -> 悄然无声 | H11: =INDEX(date!$C$48:$K$48,ROW()-ROW($H$3)+1) -> 当你在做某些能让自己显得“不那么特别”的事情时，无视所有燃尽。 | I11: =INDEX(date!$C$52:$K$52,ROW()-ROW($I$3)+1) -> ● 谁和你来自同一个地方？ ○ 示例：当地气象播报员、公交司机、你的创造者。 ● 谁教会了你如何在普通人中隐藏自己？ ○ 示例：宗教领袖、成人学历监考官、加油站店员。 ● 你最想让谁更多地了解你最初的生活？ ○ 示例：邻居家的孩子、不择手段的房地产开发商、邮递员。 | K11: =INDEX(date!$B$98:$B$109,ROW()-ROW($K$3)+1) -> 9 | L11: =INDEX(date!$C$98:$C$109,ROW()-ROW($L$3)+1) -> 行动力强 | M11: =INDEX(date!$D$98:$D$109,ROW()-ROW($M$3)+1) -> 此人拥有一种非同寻常的交通方式和充裕的空闲时间。在此奖励生效期间，他们会带你兜风或允许你借用他们的车辆。如果他们的车辆损坏或丢失，你将失去与该关系的一点连接。
K12: =INDEX(date!$B$98:$B$109,ROW()-ROW($K$3)+1) -> 10 | L12: =INDEX(date!$C$98:$C$109,ROW()-ROW($L$3)+1) -> 坚韧 | M12: =INDEX(date!$D$98:$D$109,ROW()-ROW($M$3)+1) -> 如果此人近在咫尺，他们可以在自己必须撤退恢复之前，保护平民免遭死亡，或保护你免受一次伤害，共计 3 次。
K13: =INDEX(date!$B$98:$B$109,ROW()-ROW($K$3)+1) -> 11 | L13: =INDEX(date!$C$98:$C$109,ROW()-ROW($L$3)+1) -> 受人尊敬 | M13: =INDEX(date!$D$98:$D$109,ROW()-ROW($M$3)+1) -> 在你的一次任务中，你可以请这位人士就任何人际关系问题提供建议。他们会清楚列出所有可能性或最佳选择，而且通常都是正确的。不过，告知他们过多信息仍可能导致松散端的产生。
K14: =INDEX(date!$B$98:$B$109,ROW()-ROW($K$3)+1) -> 12 | L14: =INDEX(date!$C$98:$C$109,ROW()-ROW($L$3)+1) -> 博学 | M14: =INDEX(date!$D$98:$D$109,ROW()-ROW($M$3)+1) -> 如果你需要了解某段历史信息或某个机械装置的工作原理，你可以在任务中联系此人，他们会可靠地给出答案。但告知他们过多信息仍可能引发松散端。

Sheet C公司职能
B2: 公司职能 | C2: 简介 | D2: 初始补给 | F2: 授权行为 （执行就会被嘉奖） | G2: 最高原则 （违反就会被处分） | I2: 自我评估 （决定你的素质保障）
B3: =INDEX(date!$C$56:$K$56,INT((ROW()-ROW($B$3))/6)+1) -> 公关 | C3: =INDEX(date!$C$57:$K$57,INT((ROW()-ROW($C$3))/6)+1) -> 公关（Public Relations） 公司经常需要能够解释异常现象、并将关切的旁观者引向正确结论的人。一些公关员工擅长用语言说服，另一些则通过分散注意力，而许多人发现恐吓是最有效的改变他人想法的手段。所有人都明白，声誉至关重要，人们告诉自己的故事和现实同样重要。 公关员工通常负责公司影响下的各类非营利和慈善组织。他们的工作时间主要用于组织活动、联系立法者，并确保关于公司的报道永远不会传到公众耳中。 如果你喜欢把真相作为武器、怀疑作为盾牌，那就加入我们的公关团队吧！ | D3: =INDEX(date!$C$65:$K$65,INT((ROW()-ROW($D$3))/6)+1) -> 印刷新闻稿 | E3: =INDEX(date!$C$66:$K$66,INT((ROW()-ROW($E$3))/6)+1) -> 这台古老而笨重的印刷机被存放于总部某个废弃楼层的旧休闲室中。 每次任务限一次：将你的稿件印刷并立刻投放至所有本地主要媒体刊物。如果你需要随时行动，也可将你的稿件交由同部门同事去操作印刷机。 | F3: =INDEX(date!$C$62:$K$64,MOD(ROW()-ROW($F$3),6)/2+1,INT((ROW()-ROW($F$3))/6)+1) -> 1. 制造一场干扰。 | G3: =INDEX(date!$C$60:$K$60,INT((ROW()-ROW($G$3))/6)+1) -> 保持一切光明正大。 | H3: =INDEX(date!$C$61:$K$61,INT((ROW()-ROW($H$3))/6)+1) -> 每当你撒谎时，收到 1 次违规处分。 | I3: =INDEX(date!$C$67:$K$77,CHOOSE(MOD(ROW()-ROW($I$3),6)+1,1,6,11,1,6,11),INT((ROW()-ROW($I$3))/6)+1) -> 当同事在公众场合出糗时，我会…… | J3: =INDEX(date!$C$68:$K$80,CHOOSE(MOD(ROW()-ROW($J$3),6)+1,1,3,6,8,11,13),INT((ROW()-ROW($J$3))/6)+1) -> 大声赞叹“好前卫啊！” | K3: =INDEX(date!$C$69:$K$81,CHOOSE(MOD(ROW()-ROW($K$3),6)+1,1,3,6,8,11,13),INT((ROW()-ROW($K$3))/6)+1) -> +3 气质
J4: =INDEX(date!$C$68:$K$80,CHOOSE(MOD(ROW()-ROW($J$3),6)+1,1,3,6,8,11,13),INT((ROW()-ROW($J$3))/6)+1) -> 重复他们的行为，直到它看起来见怪不怪 | K4: =INDEX(date!$C$69:$K$81,CHOOSE(MOD(ROW()-ROW($K$3),6)+1,1,3,6,8,11,13),INT((ROW()-ROW($K$3))/6)+1) -> +3 坚持
F5: =INDEX(date!$C$62:$K$64,MOD(ROW()-ROW($F$3),6)/2+1,INT((ROW()-ROW($F$3))/6)+1) -> 2. 给出一个绝妙的借口。 | I5: =INDEX(date!$C$67:$K$77,CHOOSE(MOD(ROW()-ROW($I$3),6)+1,1,6,11,1,6,11),INT((ROW()-ROW($I$3))/6)+1) -> 有一位同事被谋杀了！我…… | J5: =INDEX(date!$C$68:$K$80,CHOOSE(MOD(ROW()-ROW($J$3),6)+1,1,3,6,8,11,13),INT((ROW()-ROW($J$3))/6)+1) -> 传达我们的歉意 | K5: =INDEX(date!$C$69:$K$81,CHOOSE(MOD(ROW()-ROW($K$3),6)+1,1,3,6,8,11,13),INT((ROW()-ROW($K$3))/6)+1) -> +3 欺瞒
J6: =INDEX(date!$C$68:$K$80,CHOOSE(MOD(ROW()-ROW($J$3),6)+1,1,3,6,8,11,13),INT((ROW()-ROW($J$3))/6)+1) -> 解释“这件事对我们造成的伤害也同样严重” | K6: =INDEX(date!$C$69:$K$81,CHOOSE(MOD(ROW()-ROW($K$3),6)+1,1,3,6,8,11,13),INT((ROW()-ROW($K$3))/6)+1) -> +3 共情
F7: =INDEX(date!$C$62:$K$64,MOD(ROW()-ROW($F$3),6)/2+1,INT((ROW()-ROW($F$3))/6)+1) -> 3. 确保对方从此对这件事三缄其口。 | I7: =INDEX(date!$C$67:$K$77,CHOOSE(MOD(ROW()-ROW($I$3),6)+1,1,6,11,1,6,11),INT((ROW()-ROW($I$3))/6)+1) -> 若我们的产品引发了严重的悲剧，我对外的说法会…… | J7: =INDEX(date!$C$68:$K$80,CHOOSE(MOD(ROW()-ROW($J$3),6)+1,1,3,6,8,11,13),INT((ROW()-ROW($J$3))/6)+1) -> 正是凶手 | K7: =INDEX(date!$C$69:$K$81,CHOOSE(MOD(ROW()-ROW($K$3),6)+1,1,3,6,8,11,13),INT((ROW()-ROW($K$3))/6)+1) -> +3 主动
J8: =INDEX(date!$C$68:$K$80,CHOOSE(MOD(ROW()-ROW($J$3),6)+1,1,3,6,8,11,13),INT((ROW()-ROW($J$3))/6)+1) -> 即将获得升职 | K8: =INDEX(date!$C$69:$K$81,CHOOSE(MOD(ROW()-ROW($K$3),6)+1,1,3,6,8,11,13),INT((ROW()-ROW($K$3))/6)+1) -> +3 低调
B9: =INDEX(date!$C$56:$K$56,INT((ROW()-ROW($B$3))/6)+1) -> 研发 | C9: =INDEX(date!$C$57:$K$57,INT((ROW()-ROW($C$3))/6)+1) -> 研发（R&D） 公司需要富有创意和新鲜思维的人来设计世界的未来。研发员工以洞察他人真正需求的能力而闻名——不仅仅是他们表面上提出的要求。创造力和创新是你的驱动力，你被期望追求完美，不容妥协。 研发部门不仅负责创造可销售的新产品，还承担揭示宇宙奥秘的任务。每位员工通常会被分配一个长期项目：在整个职业生涯中进行的个人实验。这些实验在进行中可能难以理解，但公司会仔细追踪数据，逐步构建出整个运作的图景。 如果你相信手段无需解释、知识本身就是奖励，那么就加入研发部门吧！ | D9: =INDEX(date!$C$65:$K$65,INT((ROW()-ROW($D$3))/6)+1) -> 橡皮小黄鸭 | E9: =INDEX(date!$C$66:$K$66,INT((ROW()-ROW($E$3))/6)+1) -> 这只洗澡玩具内部的“吱吱声”暗示着巨大可能性。 每次任务限一次：先描述你想要达成的结果，然后将此结果说给橡皮鸭听。 ● 这只小鸭会“开口”：你的 GM 将告诉你达成该结果所需的 3 个步骤。 ● 无论看起来多么不可能，这一结果都将变得切实可行。 ● 如果你直接向橡皮鸭询问关于异常的信息，它就会融化成一团无用的泡沫。 | F9: =INDEX(date!$C$62:$K$64,MOD(ROW()-ROW($F$3),6)/2+1,INT((ROW()-ROW($F$3))/6)+1) -> 1. 探明某人真正需要的东西。 | G9: =INDEX(date!$C$60:$K$60,INT((ROW()-ROW($G$3))/6)+1) -> 推陈出新。 | H9: =INDEX(date!$C$61:$K$61,INT((ROW()-ROW($H$3))/6)+1) -> 每当你重复同一行为时，收到 1 次违规处分。 | I9: =INDEX(date!$C$67:$K$77,CHOOSE(MOD(ROW()-ROW($I$3),6)+1,1,6,11,1,6,11),INT((ROW()-ROW($I$3))/6)+1) -> 如果第一次失败了…… | J9: =INDEX(date!$C$68:$K$80,CHOOSE(MOD(ROW()-ROW($J$3),6)+1,1,3,6,8,11,13),INT((ROW()-ROW($J$3))/6)+1) -> 绝不让人看到你哭 | K9: =INDEX(date!$C$69:$K$81,CHOOSE(MOD(ROW()-ROW($K$3),6)+1,1,3,6,8,11,13),INT((ROW()-ROW($K$3))/6)+1) -> +3 专业
J10: =INDEX(date!$C$68:$K$80,CHOOSE(MOD(ROW()-ROW($J$3),6)+1,1,3,6,8,11,13),INT((ROW()-ROW($J$3))/6)+1) -> 试个不停，一直试下去 | K10: =INDEX(date!$C$69:$K$81,CHOOSE(MOD(ROW()-ROW($K$3),6)+1,1,3,6,8,11,13),INT((ROW()-ROW($K$3))/6)+1) -> +3 坚持
